BEGIN:VCALENDAR
VERSION:2.0
PRODID:-//wp-events-plugin.com//7.2.3.1//EN
TZID:Europe/Warsaw
X-WR-TIMEZONE:Europe/Warsaw
BEGIN:VEVENT
UID:19675@night4u.pl
DTSTART;TZID=Europe/Warsaw:20190628T200000
DTEND;TZID=Europe/Warsaw:20190629T030000
DTSTAMP:20190619T105902Z
URL:https://night4u.pl/wydarzenia/parzenica-w-siwym-dymie-2/
SUMMARY:Parzenica w Siwym Dymie
DESCRIPTION:Mamy przyjemność po raz kolejny zaprosić na imprezę z wyją
 tkowymi Gośćmi  z Podhala.  W piątek i sobotę w Siwym Dymie zagra Zesp
 ół PARZENICA.
ATTACH;FMTTYPE=image/jpeg:https://night4u.pl/wp-content/uploads/2019/06/47
 392_image_62353663_2277043945666614_4041719948165251072_n.jpg
CATEGORIES:lubelskie
LOCATION:Siwy Dym Celejów\, 63c\, Celejów\, 24-120\, Poland
GEO:51.338888;22.052208
X-APPLE-STRUCTURED-LOCATION;VALUE=URI;X-ADDRESS=63c\, Celejów\, 24-120\, P
 oland;X-APPLE-RADIUS=100;X-TITLE=Siwy Dym Celejów:geo:51.338888,22.052208
END:VEVENT
BEGIN:VTIMEZONE
TZID:Europe/Warsaw
X-LIC-LOCATION:Europe/Warsaw
BEGIN:DAYLIGHT
DTSTART:20190331T030000
TZOFFSETFROM:+0100
TZOFFSETTO:+0200
TZNAME:CEST
END:DAYLIGHT
END:VTIMEZONE
END:VCALENDAR