BEGIN:VCALENDAR
VERSION:2.0
PRODID:-//wp-events-plugin.com//7.2.3.1//EN
TZID:Europe/Warsaw
X-WR-TIMEZONE:Europe/Warsaw
BEGIN:VEVENT
UID:14408@night4u.pl
DTSTART;TZID=Europe/Warsaw:20190503T210000
DTEND;TZID=Europe/Warsaw:20190504T060000
DTSTAMP:20190430T142714Z
URL:https://night4u.pl/wydarzenia/pedro-drums-live-act-bajo-3-05/
SUMMARY:Pedro Drums Live Act & Bajo // 3.05
DESCRIPTION:Nie od dzisiaj wiadomo\, że dziewczyny szaleją za chłopakami
 - muzykami!\nA w szczególności za perkusistami!\nDobrze wiemy i dlatego 
 znowu zaprosiliśmy Pedra\, który pogra trochę na bębnach! \nTego wiecz
 oru skład naprawdę zacny! \n\nLINE UP:\nGórna sala\nBartech\n\nDolna sa
 la\nPedro Drums Live Act\nBajo\n\nStart: 21:00\nWSTĘP: Panie FREE\, Panow
 ie 10 pln\, karty klubowe free\, selekcja\n\nENG: \nIt is known not from t
 oday that girls are crazy about boys - musicians!\nAnd especially for drum
 mers!\nWe know well and that is why we have invited Pedro again\, who will
  play some drums!
ATTACH;FMTTYPE=image/jpeg:https://night4u.pl/wp-content/uploads/2019/04/35
 890_image_58579388_2397061943672277_7596337506283421696_o.jpg
CATEGORIES:łódzkie
LOCATION:Klub Czekolada Łódź\, Łódź\, Poland
GEO:51.769644;19.455797
X-APPLE-STRUCTURED-LOCATION;VALUE=URI;X-ADDRESS=Łódź\, Poland;X-APPLE-RA
 DIUS=100;X-TITLE=Klub Czekolada Łódź:geo:51.769644,19.455797
END:VEVENT
BEGIN:VTIMEZONE
TZID:Europe/Warsaw
X-LIC-LOCATION:Europe/Warsaw
BEGIN:DAYLIGHT
DTSTART:20190331T030000
TZOFFSETFROM:+0100
TZOFFSETTO:+0200
TZNAME:CEST
END:DAYLIGHT
END:VTIMEZONE
END:VCALENDAR