BEGIN:VCALENDAR
VERSION:2.0
PRODID:-//wp-events-plugin.com//7.2.3.1//EN
TZID:Europe/Warsaw
X-WR-TIMEZONE:Europe/Warsaw
BEGIN:VEVENT
UID:51273@night4u.pl
DTSTART;TZID=Europe/Warsaw:20211001T200000
DTEND;TZID=Europe/Warsaw:20211001T200000
DTSTAMP:20210908T144801Z
URL:https://night4u.pl/wydarzenia/peja-slums-attack-01-10-21-rzeszow-pub-s
 poldzielczy-rzeszow/
SUMMARY:Peja/Slums Attack 01/10/21 Rzeszów\, Pub Spółdzielczy Rzeszów
DESCRIPTION:
ATTACH;FMTTYPE=image/jpeg:https://night4u.pl/wp-content/uploads/2021/08/18
 6820_image_240781787_384553409697124_883248554018498457_n.png.jpg
CATEGORIES:podkarpackie
END:VEVENT
BEGIN:VTIMEZONE
TZID:Europe/Warsaw
X-LIC-LOCATION:Europe/Warsaw
BEGIN:DAYLIGHT
DTSTART:20210328T030000
TZOFFSETFROM:+0100
TZOFFSETTO:+0200
TZNAME:CEST
END:DAYLIGHT
END:VTIMEZONE
END:VCALENDAR