BEGIN:VCALENDAR
VERSION:2.0
PRODID:-//wp-events-plugin.com//7.2.3.1//EN
TZID:Europe/Warsaw
X-WR-TIMEZONE:Europe/Warsaw
BEGIN:VEVENT
UID:5998@night4u.pl
DTSTART;TZID=Europe/Warsaw:20190302T200000
DTEND;TZID=Europe/Warsaw:20190303T020000
DTSTAMP:20190131T221211Z
URL:https://night4u.pl/wydarzenia/peja-slums-attack-02-03-19-szczecin-kart
 ell-club/
SUMMARY:Peja/Slums Attack 02/03/19 Szczecin\, Kartell Club
DESCRIPTION:Serdecznie zapraszamy na koncert z okazji premiery płyty "25H"
 ! Peja Slums Attack\, legenda polskiego rapu wspólnie z DVJ RINK i Gandzi
 orem pojawią się na scenie w Kartell Club już 02 marca \n\n• Miejsce:
  Kartell Club\n• Data: 02.03.2019\n• Godzina: 20:00\n\nKoncerty:\n- Pe
 ja Slums Attack \n- Marcuson\n- ??\n- ??\n\nZa deckami:\n- DVJ RINK\n- Ey 
 DJ Carter\n\nAFTER PARTY DO RANA! \nSpecjalne promocje od Kartell Club!\n-
  Jagger Bomb 12zł\n- Shot Wódki 7zł\n- Piwo 7zł\n\nBILETY JUŻ WKRÓTC
 E W SPRZEDAŻY! \nBilety w cenie:\n30 zł - przedsprzedaż \n40 zł - w dn
 iu imprezy\n100 zł - bilet VIP\n\nBilet VIP zawiera:\n- Wstęp na backsta
 ge\n- Osobny bar na backstage\n- Wstęp bez kolejki\n- Opaske VIP\n\n\nWsp
 ierają nas:\n- RPS Enterteyment\n- Artem Tattoo\n- Jamnik\n- Glamrap\n- R
 APPORTAL\n- WuDoo 92fm\n- HipHopHeadz.pl\n- Imprezowy Szczecin\n- Szczeci
 ńskie Podziemie\n- Insomnia Party
ATTACH;FMTTYPE=image/jpeg:https://night4u.pl/wp-content/uploads/2019/01/18
 021_image_51102562_2231452800239264_7703426309581438976_n.jpg
CATEGORIES:zachodniopomorskie
LOCATION:Kartell Event Club\, Jagiellońska 67B\, Szczecin\, 70-382\, Polan
 d
GEO:53.432833;14.531283
X-APPLE-STRUCTURED-LOCATION;VALUE=URI;X-ADDRESS=Jagiellońska 67B\, Szczeci
 n\, 70-382\, Poland;X-APPLE-RADIUS=100;X-TITLE=Kartell Event Club:geo:53.4
 32833,14.531283
END:VEVENT
BEGIN:VTIMEZONE
TZID:Europe/Warsaw
X-LIC-LOCATION:Europe/Warsaw
BEGIN:STANDARD
DTSTART:20181028T020000
TZOFFSETFROM:+0200
TZOFFSETTO:+0100
TZNAME:CET
END:STANDARD
END:VTIMEZONE
END:VCALENDAR