BEGIN:VCALENDAR
VERSION:2.0
PRODID:-//wp-events-plugin.com//7.2.3.1//EN
TZID:Europe/Warsaw
X-WR-TIMEZONE:Europe/Warsaw
BEGIN:VEVENT
UID:25749@night4u.pl
DTSTART;TZID=Europe/Warsaw:20191018T200000
DTEND;TZID=Europe/Warsaw:20191019T040000
DTSTAMP:20191018T104031Z
URL:https://night4u.pl/wydarzenia/peja-slums-attack-w-stargardzie-eclipse-
 club-18-10-19/
SUMMARY:Peja/Slums Attack w Stargardzie / Eclipse Club (18/10/19)
DESCRIPTION:Koncert w ramach trasy promującej album G.O.A.T. oraz 25_godzi
 n. Na scenie oprócz Peji: DVJ. Rink oraz Gandzior. Podczas koncertu nie z
 abraknie również starych klasyków z poprzednich albumów Rycha. \n\n
 🔔Miejsce: Eclipse Klub Stargard\n🔔Data: 18.10.2019\n🔔Start: 20:00
 \n\nKoncerty:\n💣 Peja Slums Attack\n💣 Dansky\n💣 Kapewu\n\n💥 po
  koncercie AFTER PARTY do rana\n\nBilety dostępne:\n💎 Online: https://
 ticketos.pl/event/2325\n💎  My Beauty (Zygmunta Krasińskiego 16\, 73-11
 0 Stargard)\n\nℹ Bilety w cenie:\n30 zł - I pula  \n35 zł - II pula\n4
 0 zł - II  pula\n150 zł - bilet VIP \n\n💎💎💎W cenie biletu VIP:
 💎💎💎\n- Kolekcjonerska opaska VIP\n- Wstęp na próbę dźwięku (
 19:30)\n- Plakat z podpisem artysty \n- Płyta artysty z podpisem\n- Zdję
 cie z Peją\n\n🔞Wstęp: +18\n☎️KONTAKT: 501 461 046\n\n\nPatroni: \
 nGS24.pl - wiadomości ze Szczecina i regionu\nImprezowy Szczecin\nRAPPORT
 AL\nRapDuma\nWuDoo 92fm\nGlamrap\nHIP HOP/RAP PL\nSzczeciński HipHop\nINF
 O Szczecin\nSzczecińskie Podziemie\nSzczecińskie Podziemie Studio\nDj Sw
 eet\nEy DJ Carter\n-------------------------------------------------------
 ----------------------\nChciałbyś aby twoja firma została sponsorem/par
 tnerem wydarzenia? Zadzwoń do nas!
ATTACH;FMTTYPE=image/jpeg:https://night4u.pl/wp-content/uploads/2019/10/60
 294_image_71743455_2778609422170564_8661876136021590016_o.jpg
CATEGORIES:zachodniopomorskie
LOCATION:Eclipse Klub Stargard\, Czarnieckiego 1e\, Stargard Szczecinski\, 
 73-110\, Poland
GEO:53.339184;15.037302
X-APPLE-STRUCTURED-LOCATION;VALUE=URI;X-ADDRESS=Czarnieckiego 1e\, Stargard
  Szczecinski\, 73-110\, Poland;X-APPLE-RADIUS=100;X-TITLE=Eclipse Klub Sta
 rgard:geo:53.339184,15.037302
END:VEVENT
BEGIN:VTIMEZONE
TZID:Europe/Warsaw
X-LIC-LOCATION:Europe/Warsaw
BEGIN:DAYLIGHT
DTSTART:20190331T030000
TZOFFSETFROM:+0100
TZOFFSETTO:+0200
TZNAME:CEST
END:DAYLIGHT
END:VTIMEZONE
END:VCALENDAR