BEGIN:VCALENDAR
VERSION:2.0
PRODID:-//wp-events-plugin.com//7.2.3.1//EN
TZID:Europe/Warsaw
X-WR-TIMEZONE:Europe/Warsaw
BEGIN:VEVENT
UID:5481@night4u.pl
DTSTART;TZID=Europe/Warsaw:20190413T200000
DTEND;TZID=Europe/Warsaw:20190413T230000
DTSTAMP:20190130T185845Z
URL:https://night4u.pl/wydarzenia/perfect-son-dom-kultury/
SUMMARY:Perfect Son | Dom Kultury
DESCRIPTION:Zapraszamy na koncert Perfect Son (z zespołem) w Domu Kultury!
  \n\nWystąpią:\n\nTobiasz Biliński - wokal\, klawisze\, bas\nLavia Hart
  - wokal\, klawisze\nKamil Hordyniec - gitara\nJacek Prościński - perkus
 ja\n\nBilety: 25 zł w przedsprzedaży\, 35 zł w dniu koncertu\n\nOd same
 go początku solowej działalności\, Tobiasz Biliński wyłamuje się poz
 a schemat rodzimej sceny. Trudno znaleźć na niej kogokolwiek\, kto tworz
 yłby w podobny sposób jak muzyk odpowiedzialny za projekt Coldair. Pod t
 ym aliasem Biliński wydał trzy długogrające płyty\, zbierając pochle
 bne recenzje także poza Polską\, m.in. wśród redaktorów Pitchforka. P
 o przerwie jaka minęła od wydania albumu The Provider\, artysta powraca 
 z nowym wydawnictwem i projektem. Jako Perfect Son Biliński przedstawia 
 światu 'Cast' i oznajmia rozpoczęcie kolejnego\, ważnego rozdziału w s
 wojej karierze i w współczesnej historii rodzimej sceny - jako pierwszy 
 polski muzyk trafił pod skrzydła legendarnej amerykańskiej wytwórni Su
 b Pop Records\, tej samej\, w której swoje albumy wydawały Nirvana i Sou
 ndgarden\, a w skład której obecnie wchodzą m.in. Beach House\, Fleet F
 oxes\, Father John Misty czy The Afghan Whigs. \n\n'Cast' ukaże się 15 l
 utego 2019 roku nakładem Sub Pop Records.
ATTACH;FMTTYPE=image/jpeg:https://night4u.pl/wp-content/uploads/2019/01/16
 878_image_50914191_305560816984623_5988050800016883712_o.jpg
CATEGORIES:lubelskie
LOCATION:Dom Kultury\, ul. Krakowskie Przedmieście 19\, Lublin\, 20-002\, 
 Poland
GEO:51.24787;22.56342
X-APPLE-STRUCTURED-LOCATION;VALUE=URI;X-ADDRESS=ul. Krakowskie Przedmieści
 e 19\, Lublin\, 20-002\, Poland;X-APPLE-RADIUS=100;X-TITLE=Dom Kultury:geo
 :51.24787,22.56342
END:VEVENT
BEGIN:VTIMEZONE
TZID:Europe/Warsaw
X-LIC-LOCATION:Europe/Warsaw
BEGIN:DAYLIGHT
DTSTART:20190331T030000
TZOFFSETFROM:+0100
TZOFFSETTO:+0200
TZNAME:CEST
END:DAYLIGHT
END:VTIMEZONE
END:VCALENDAR