BEGIN:VCALENDAR
VERSION:2.0
PRODID:-//wp-events-plugin.com//7.2.3.1//EN
TZID:Europe/Warsaw
X-WR-TIMEZONE:Europe/Warsaw
BEGIN:VEVENT
UID:32741@night4u.pl
DTSTART;TZID=Europe/Warsaw:20191116T190000
DTEND;TZID=Europe/Warsaw:20191116T210000
DTSTAMP:20200331T205554Z
URL:https://night4u.pl/wydarzenia/perfect-zagra-w-hali-stulecia-we-wroclaw
 iu/
SUMMARY:Perfect zagra w Hali Stulecia we Wrocławiu!
DESCRIPTION:Perfect zagra w Hali Stulecia we Wrocławiu!\n\nwROCKfest.pl z 
 przyjemnością zaprasza do Wrocławia na koncert legendy polskiego rocka.
 \n16 listopada w Hali Stulecia swoje największe przeboje zagra zespół P
 erfect!\nObecny od kilkudziesięciu już lat na polskiej scenie zespół\,
  obecnie nieczęsto koncertuje  - nie można przegapić okazji do udziału
  w pełnowymiarowy koncercie Perfectu we Wrocławiu!\nRezerwujcie czas - i
 nfo o biletach wkrótce\n\nPerfect to polski zespół rockowy\, założony
  w 1977 roku. Pierwszy koncert grupy w składzie:  Zbigniew   Hołdys\, Gr
 zegorz Markowski\, Ryszard   Sygitowicz\, Piotr Szkudelski \, Zdzisław   
 Zawadzki miał miejsce w sylwestra 1980 roku w warszawskim klubie studenck
 im Stodoła. W tym składzie PERFECT stał się na początku lat osiemdzie
 siątych najpopularniejszą grupą rockową w Polsce. Zespół wziął udz
 iał w najważniejszych imprezach rockowych w Polsce\, m.in.: Rock Arena w
  Poznaniu\, Rock w Opolu\, Festiwal Muzyki Rockowej w Jarocinie\,  Rock Ja
 mboree w Sali Kongresowej w Warszawie . Największą popularnością ciesz
 ył się do rozwiązania w 1983 roku. Z tego okresu pochodzą największe 
 przeboje grupy: "Nie płacz Ewka"\, "Chcemy być sobą"\, "Ale wkoło jest
  wesoło"\, "Niewiele ci mogę dać"\, "Autobiografia". W 1993 roku zespó
 ł został reaktywowany (bez udziału Zbigniewa Hołdysa) i działa do dzi
 ś.\nW 2014 roku ukazał się krążek „DaDaDam”\, który zdobył stat
 us platynowej płyty. Jesienią 2016 roku premierę miał album „Muzyka
 ”\, a w kwietniu 2017 ukazał się trzypłytowy album „Perfect Live Ap
 ril 1\, 1987”- reedycja z okazji 30 -lecia koncertu. Perfect to zdobywcy
  SuperJedynki za utwór "Wszystko ma swój czas" w kategorii Super Przebó
 j oraz SuperJedynki widzów na 52 Festiwalu Piosenki Polskiej w Opolu.\nPi
 osenki Perfectu to głos polskiego pokolenia lat 70. i 80. To dzięki nim 
 wiemy więcej na temat codzienności minionego ustroju politycznego. O wol
 ności słowa\, miłości i wyborów opowiadają w rockowo-popowej formie.
  Ich ostatnie hity “Niepokonani” czy “Wszystko ma swój czas” w ni
 czym nie ustępują dawnym przebojom. Koncert Perfect to wyjątkowe\, mię
 dzypokoleniowe spotkanie z muzyką i historią.\n\n16.11.19 godz.19.00 Hal
 a Stulecia\, ul. Wystawowa 1\nPERFECT\nmiejsca siedzące (trybuna główna
 ): 100 zł - przedsprzedaż\, 110 zł - w dniu koncertu\nmiejsca siedzące
  (trybuny boczne): 85 zł - przedsprzedaż\, 90 zł - w dniu koncertu\nmie
 jsca stojące (płyta): 65 zł - przedsprzedaż\, 70 zł - w dniu koncertu
 \n\nBilety dostępne w sieci salonów Empik i MediaMarkt w całej Polsce\n
 oraz w serwisach: www.wrockfest.pl/bilety-online/\, www.biletin.pl\, www.b
 iletyna.pl\, www.eventim.pl\, www.ebilet.pl\, www.kupbilecik.pl\nrezerwacj
 e: bilety@o2.pl \n\nUwaga\, kupuj bilety wyłącznie w autoryzowanych punk
 tach! \nZakup biletów poza autoryzowanymi punktami sprzedaży (Facebook\,
  aukcje internetowe\, systemy odsprzedaży biletów itp.) stwarza ryzyko z
 akupu biletów nieoryginalnych lub nieważnych\, które nie umożliwią we
 jścia na koncert.
ATTACH;FMTTYPE=image/jpeg:https://night4u.pl/wp-content/uploads/2019/10/79
 972_image_62450557_2498903903454148_5525119635508166656_n.jpg
CATEGORIES:dolnośląskie
LOCATION:3-majówka\, ul. Wystawowa 1\, Wroclaw\, 51-618\, Poland
GEO:51.107658;17.077922
X-APPLE-STRUCTURED-LOCATION;VALUE=URI;X-ADDRESS=ul. Wystawowa 1\, Wroclaw\,
  51-618\, Poland;X-APPLE-RADIUS=100;X-TITLE=3-majówka:geo:51.107658,17.07
 7922
END:VEVENT
BEGIN:VTIMEZONE
TZID:Europe/Warsaw
X-LIC-LOCATION:Europe/Warsaw
BEGIN:STANDARD
DTSTART:20191027T020000
TZOFFSETFROM:+0200
TZOFFSETTO:+0100
TZNAME:CET
END:STANDARD
END:VTIMEZONE
END:VCALENDAR