BEGIN:VCALENDAR
VERSION:2.0
PRODID:-//wp-events-plugin.com//7.2.3.1//EN
TZID:Europe/Warsaw
X-WR-TIMEZONE:Europe/Warsaw
BEGIN:VEVENT
UID:29943@night4u.pl
DTSTART;TZID=Europe/Warsaw:20200117T173000
DTEND;TZID=Europe/Warsaw:20200118T003000
DTSTAMP:20200331T192043Z
URL:https://night4u.pl/wydarzenia/persistence-tour-2020-17-i-wroclaw/
SUMMARY:Persistence Tour 2020 / 17 I / Wrocław
DESCRIPTION:🚪 17:30 - Drzwi\n👊 18:00-18:20 - Countime\n👊 18:35-18:
 55 - Cutthroat\n👊 19:10-19:40 - Wisdom In Chains\n👊 19:55-20:25 - Bi
 lly Bio\n👊 20:40-21:10 - H2O\n👊 21:25-21:55 - Street Dogs\n👊 22:1
 0-22:50 - Agnostic Front\n👊 23:10-... - Gorilla Biscuits\n\n--\n\nKnock
  Out Productions prezentuje Persistence Tour 2020 we Wrocławiu! Na koncer
 t zapraszamy 17 stycznia (piątek) do wrocławskiego klubu A2.\n\nDruki ko
 lekcjonerskie można nabyć już teraz na:\n🎟 https://sklep.knockoutpro
 d.net\n\n--\n\n[PL] Uwaga! ⚠ Kupując bilet od osób umieszczających of
 erty na nieautoryzowanych stronach (Viagogo\, Ticketswap\, Allegro\, OLX c
 zy Facebook)\, ryzykujesz nabycie fałszywej wejściówki\, która uniemo
 żliwia wejście na koncert. Prosimy o kupowanie biletów wyłącznie w au
 toryzowanych punktach sprzedaży\, tj. sklep.knockoutprod.net oraz eventim
 .pl! \n\n[ENG] Attention! ⚠ Buying tickets through unauthroized platform
 s (Viagogo\, Ticketswap\, etc.) is a risk of buying false tickets which wi
 ll not let You participate in our shows. The only authorised ticket stores
  are sklep.knockoutprod.net and eventim.pl.\n\n--\n\n🎵 GORILLA BISCUITS
  (USA) hardcore punk:\n\nFormacja Gorilla Biscuits powstała w 1986 roku w
  Nowym Jorku. W krótkim czasie stała się ważnym ogniwem sceny hardcore
  punkowej w tym mieście. Za powstanie zespołu odpowiedzialni są wokalis
 ta Anthony Civarelli\, basista Arthur Smilios\, bębniarz Luke Abbey\, git
 arzysta Walter Schreifels oraz drugi gitarzysta Alex Brown. Z tej piątki 
 w składzie pozostali wszyscy poza Aleksem. Rolę drugiego gitarzysty peł
 ni Charlie Garriga.\n\nPrzygoda\, która zaczęła się\, kiedy panowie by
 li jeszcze nastolatkami i uczęszczali do szkoły średniej na Lond Island
 \, a po lekcjach na koncerty do klubu "CBGB"\, przerodziła się w trwają
 cą ponad 30 lat pasję. Dziś legenda kultowej wytwórni Gorilla Biscuits
  to jednocześnie legenda gatunku. Niezmiennie wyznająca ideały straight
  Edge i bezwzględnie piętnująca wszelkie zło\, jakie występuje w świ
 ecie polityki. Gorilla Biscuits od lat nie nagrywa płyt\, lecz w miarę r
 egularnie gra koncerty\, które niezmiennie cechuje ogromny ładunek energ
 ii.\n\nSprawdź\, jeśli lubisz: Quicksand\, Youth Of Today\, Agnostic Fro
 nt…\n\n▶ https://www.youtube.com/watch?v=8v3NGffcb1Q \n\n🎵 AGNOSTIC
  FRONT (USA) hardcore:\n\nAgnostic Front to ojcowie chrzestni hardcore'a i
  hardcore punka. Żywa legenda nowojorskiego i światowego undergroundu. K
 apela powstała w 1980 roku\, a jeden z założycieli\, gitarzysta Vinnie 
 Stigma\, jest w składzie do dziś. Mniej więcej dwa lata później Agnos
 tic Front znaleźli wokalistę Rogera Mireta i od tamtej pory jest on fron
 tmanem kapeli\, a jego wyjątkowy głos jednym z jej znaków szczególnych
 .\n\nAgnostic Front to od początku głos zawiedzionych\, uciśnionych\, p
 rześladowanych. To krytycy korupcji i deprawacji polityków\, nierównoś
 ci społecznych. Nic dziwnego\, że przekaz Amerykanów bez trudu trafił 
 do fanów pod każdą szerokością geograficzną. Zwłaszcza tych\, któr
 ym system niejednokrotnie pokazał środkowy palec.\n\nKapela pierwszą p
 łytę wydała w 1984 roku. "Victim in Pain"\, bo o niej mowa\, to dziś j
 eden z klasyków gatunku. To samo można napisać\, chociażby o "Cause fo
 r Alarm" (1986) i "Liberty and Justice For..." (1987). Lata mijają\, a Vi
 nnie i Roger niezmiennie trwają przy założeniach kapeli\, które stworz
 yli jeszcze za czasów prezydentury Ronalda Reagana. I można być pewnym\
 , że podejścia nigdy nie zmienią.\n\nSprawdź\, jeśli lubisz: Cro-Mags
 \, Madball\, Sick Ot It All…\n\n▶ https://www.facebook.com/agnosticfro
 nt\n▶ https://www.youtube.com/watch?v=7Mn1WN5yeag\n\n🎵 H2O (USA) melo
 dyjny hardcore:\n\nKolejna ważna nazwa na mapie nowojorskiego i światowe
 go hardcore punka to  grupa H2O. Od powstania w 1994 roku intensywnie prac
 owała na swoją pozycję i dorobek wydawniczy\, by zasłużenie uzyskać 
 status legendy gatunku. I w odróżnieniu od wielu wykonawców na scenie h
 cpunk gra od lat w niezmienionym składzie.\n\nKapelę założył Straight
 edge'owiec Toby Morse\, który na początku lat 90. XX wieku koncertował 
 z inną legendą\, Sick Ot It All\, jako techniczny\, a od czasu do czasu 
 wskakiwał na scenę i śpiewał z grupą braci Kollerów w trakcie bisów
 . Toby to nie tylko wesoły\, pozytywny osobnik i urodzony frontman. Wokal
 ista jest też aktywnym propagatorem zdrowego trybu życia wśród młodzi
 eży szkolnej oraz promotorem pozytywnego nastawienia (Positive Mental Att
 itude - PMA)\, za pośrednictwem założonej przez siebie organizacji One 
 Life\, One Chance. Taki facet\, którego nie sposób nie lubić. Stąd nie
  dziwi\, że Morse'a do współpracy zapraszał\, chociażby legendarny Th
 e Offspring\, czy sama Juliette Lewis (w ramach jej zespołu Juliette and 
 the Licks). Na scenie towarzyszą mu niezmiennie Rusty Pistachio (gitara\,
  chórki)\, Todd Friend (perkusja) i Adam Blake (gitara basowa).\n\nH2O wb
 rew nazwie nie leje wody\, tylko wali prawdę prosto z mostu. Zespół cec
 huje inteligentny\, zaangażowany przekaz oraz pozytywna moc\, energia i 
 świeżość.\n\nSprawdź\, jeśli lubisz: Ignite\, Sick Of It All\, Comeb
 ack Kid...\n\n▶ https://www.facebook.com/H2Ogo\n▶ https://www.youtube.
 com/watch?v=c1kgZLgWpb8\n\n🎵 STREET DOGS (USA) punk:\n\nTak jak niektó
 re utwory Agnostic Front są odbiciem życia i problemów panujących w No
 wym Jorku\, tak kompozycje powstałego w 2002 roku zespołu Street Dogs st
 anowią zwierciadło dla społeczno-politycznych kwestii w Bostonie. Jego 
 główną postacią jest wokalista Mike McColgan\, który wraz z basistą 
 Johnnym Rioux pamięta początki kapeli\, a na co dzień pracuje w dyspozy
 torni bostońskiej straży pożarnej. Od 2013 roku skład Street Dogs jest
  ustabilizowany i oprócz wymienionej dwójki są w nim jeszcze Pete Sosa 
 (perkusja)\, Lenny Lashley (gitara) i Matt Pruitt (gitara).\n\nWyróżniki
 em muzyki Street Dogs są wspaniałe melodie\, które przywodzą na myśl 
 najlepsze dokonania Stiff Little Fingers\, Green Day\, czy Social Distorti
 on albo Bad Religion. Bostończycy niczym pełen pasji antropolog przyglą
 dają się swojemu miastu i celnie bez owijania w bawełnę piętnują jeg
 o bolączki. "Każdy\, kto nas słyszał\, nie ma wątpliwości\, że jest
 eśmy bostończykami do szpiku kości" – zapewnia Mike. Dodaje przy okaz
 ji\, że stanowią coś w rodzaju okna dla wszystkich spoza Bostonu i spoz
 a Ameryki\, przez które można miasto bardzo dobrze poznać. Dowiedzieć 
 się\, jak to jest w nim dorastać\, jaka jest edukacja\, co jest pozytywn
 e\, a co zalicza się do problemów.\n\nTwórczość Street Dogs to coś w
  stylu specyficznego przewodnika po Bostonie\, w którym można przeczyta
 ć nie tylko to\, co piękne i warte zobaczenia. Przykładowo album "Stand
  for Something or Die for Nothing" odbija sytuację w mieście pod rządam
 i administracji Trumpa. I jednocześnie wskazuje\, co grozi tym\, którzy 
 w obliczu dziejącego się zła\, pozostają bezczynni.\n\nSprawdź\, jeś
 li lubisz: The Clash\, Social Distortion\, Stiff Little Fingers...\n\n▶ 
 https://www.facebook.com/streetdogs\n▶ https://www.youtube.com/watch?v=q
 QWobv8swkg\n\n🎵 WISDOM IN CHAINS (USA) hardcore punk:\n\nWisdom In Chai
 ns to hardcore punkowa grupa\, która narodziła się w 2001 roku w napraw
 dę wyjątkowych okolicznościach. Początkowo miał to być projekt międ
 zynarodowy. Maarten z holenderskiego Daredevil skontaktował się z Mad Jo
 e Blackiem (wokal) i Richiem Krutchem (gitara) z kapeli Krutch\, aby stwor
 zyć formację hardcore'ową z wpływami oi! Może nie byłoby w tym nic n
 adzwyczajnego\, gdyby nie to\, że Maarten przyleciał do USA\, aby dokona
 ć pierwszych nagrań 11 września 2001 roku\, w dzień\, który zmienił 
 wiele na świecie…\n\nNagrania oczywiście się opóźniły\, a Wisom Of
  Chains ostatecznie stał się w 100 procentach amerykańskim zespołem\, 
 w którym dziś oprócz Mad Joe i Richiego są jeszcze Luke Rota (perkusja
 )\, Evan (gitara basowa\, wokal) i Mav (gitara). Panowie traktują to\, co
  robią śmiertelnie poważnie\, a utwory nasycają wartościowymi treści
 ami\, sporą dawką agresji oraz odrobiną gitarowych melodii\, wystawiaj
 ących głowę spod ściany riffów. Zjechali od momentu powstania kawał 
 świata\, towarzysząc największym w gatunku\, jak Sick of it All\, Agnos
 tic Front\, czy Madball. Legendą stali się właśnie z powodu koncertów
  (parokrotnie grali również w Polsce)\, które są nieprawdopodobnie ży
 wiołowe\, choć oczywiście mają na koncie trochę albumów i singli. Pu
 re music\, no bullshit\, no fantasies\, no attitudes ­– to credo kapeli
 . \n\nSprawdź\, jeśli lubisz: Agnostic Front\, Cro-Mags\, Madball…\n\n
 ▶ https://www.facebook.com/WisdomInChainsPAHC/\n▶ https://www.youtube.
 com/watch?v=dF9Ln6IwOlU\n\n🎵 BILLYBIO (USA) hardcore:\n\nPotrafi przył
 ożyć i gitarowym riffem\, i jak będzie trzeba również rękami i nogam
 i. Legenda hard core'a\, jaką bez dwóch zdań jest Billy Graziadei\, ma 
 bowiem w życiu dwie wielkie miłości – muzykę i sztuki walki. Ameryka
 nin urodził się w Bostonie\, kawał życia spędził w Nowym Jorku\, a w
  Los Angeles ma studio nagraniowe i regularnie trenuje brazylijskie jiu-ji
 tsu pod okiem mistrza tej dyscypliny\, Roriona Gracie. Wciąż nie trawi r
 asizmu\, zakłamanych polityków i narkotyków. \n\nLegenda Billy'ego naro
 dziła się dzięki niezapomnianym płytom do dziś istniejącego brookly
 ńskiego Biohazard. Aczkolwiek horyzonty muzyczne muzyka nie ograniczają 
 się tylko do ostrego łojenia. Graziadei w artystycznym dossier ma też p
 rojekt triphopowy\, czy supergrupę PowerFlo. Pod nazwą BillyBio\, funkcj
 onującą od lata 2018 roku\, Amerykanin tworzy to\, co umie najlepiej\, c
 zyli klasycznego hard core'a. Jesienią 2018 roku BillyBio doczekał się 
 debiutanckiej płyty "Feed The Fire" oraz trasy koncertowej po Europie u b
 oku serdecznych kumpli z Life Of Agony.\n\nSprawdź\, jeśli lubisz: Bioha
 zard\, Madball\, Agnostic Front…\n\n▶ https://billybio.com/\n▶ https
 ://www.facebook.com/BillyBIOHAZARD/\n▶ https://www.youtube.com/watch?v=r
 cEREwqScCs\n\n🎵 CUTTHROAT (USA) hard core:\n\nPochodząca z Los Angeles
  hardcore'owa załoga Cutthroat powstała z inicjatywy legendy sceny hc Ne
 ila Roemera\, który na swój status zapracował jako frontman działając
 ej z powodzeniem w latach 90. XX wieku formacji Downset\, wykonującej po
 łączenie hard core'a i crossover. Lata później wokalista zebrał wokó
 ł siebie kumpli z różnych muzycznych światów\, ale o podobnym spojrze
 niu na świat i muzykę. Dlaczego to zrobił? Jak głosi witryna Cutthroat
 \, aby głosić prawdę\, którą przed ludźmi ukrywają media. \n\nTrąc
 i trochę teoriami spiskowymi\, ale Neil i jego bracia (jak ich nazywa) z 
 zespołu stoją mocno na ziemi i z pewnością nie szukają wśród nas Re
 ptilian. Nie owijają w bawełnę\, zwłaszcza w ilustracjach wideo swoich
  kompozycji. Status Neila i jego otwarcie na różne dźwięki pozwala na 
 zapraszanie gości z tak różnych światów\, jak hip-hop i komercyjny so
 ft rock/soft metal. Tak\, tak\, do takiego niecodziennego zestawienia dosz
 ło w fantastycznym utworze "Forgotten"\, w którym słychać rymowanie Se
 n Doga z Cypress Hill i solo George'a Lyncha z Dokken. \n\nOprócz Neila w
  składzie Cutthroat są jeszcze trzej doświadczeni zawodnicy - Art Banur
 a (perkusja)\, jego brat Dan Banura (gitara\; obaj wcześniej w Blood Stan
 ds Still i Murder Death Kill) i Jesse Gomez (gitara basowa\; wcześniej We
 edeeter\, Urban Assault\, Hydrophonix). \n\nSprawdź\, jeśli lubisz: Bioh
 azard\, Agnostic Front\, First Blood…\n\n▶ http://cutthroatlahc.com/\n
 ▶ https://www.facebook.com/Losangelescutthroat/\n▶ https://www.youtube
 .com/watch?v=uw_z-BAdAI0\n\n\nZagrają:\nGORILLA BISCUITS (USA) hardcore p
 unk\nAGNOSTIC FRONT (USA) hardcore\n+\nH2O (USA) melodyjny hardcore\nStree
 t Dogs (USA) punk\nWisdom In Chains (USA) hardcore punk\nBillyBio (USA) ha
 rdcore\nCutthroat (USA) hardcore\nCountime (USA) hardcore \n\nKiedy: 17 st
 ycznia (piątek) 2019\nGdzie: Wrocław @ A2\, ul. Góralska 5\nBilety: 125
  zł – przedsprzedaż\, 140 zł – w dniu koncertu\nOrganizator: Knock 
 Out Productions\n\nBilety na koncert dostępne na:\n🎟 https://sklep.kno
 ckoutprod.net (druki kolekcjonerskie)\n\n\nZaprasza\nKnock Out Productions
 	\nhttp://www.knockoutprod.net\nhttps://www.facebook.com/productions.knock
 .out\nhttps://www.instagram.com/knockoutprod
ATTACH;FMTTYPE=image/jpeg:https://night4u.pl/wp-content/uploads/2019/10/69
 028_image_70779755_2544294522259966_262622892074729472_o.jpg
CATEGORIES:dolnośląskie
LOCATION:A2 - Centrum Koncertowe\, Góralska 5\, Wroclaw\, 53-610\, Poland
GEO:51.108613;17.001703
X-APPLE-STRUCTURED-LOCATION;VALUE=URI;X-ADDRESS=Góralska 5\, Wroclaw\, 53-
 610\, Poland;X-APPLE-RADIUS=100;X-TITLE=A2 - Centrum Koncertowe:geo:51.108
 613,17.001703
END:VEVENT
BEGIN:VTIMEZONE
TZID:Europe/Warsaw
X-LIC-LOCATION:Europe/Warsaw
BEGIN:STANDARD
DTSTART:20191027T020000
TZOFFSETFROM:+0200
TZOFFSETTO:+0100
TZNAME:CET
END:STANDARD
END:VTIMEZONE
END:VCALENDAR