BEGIN:VCALENDAR
VERSION:2.0
PRODID:-//wp-events-plugin.com//7.2.3.1//EN
TZID:Europe/Warsaw
X-WR-TIMEZONE:Europe/Warsaw
BEGIN:VEVENT
UID:15250@night4u.pl
DTSTART;TZID=Europe/Warsaw:20190531T210000
DTEND;TZID=Europe/Warsaw:20190601T040000
DTSTAMP:20190507T204011Z
URL:https://night4u.pl/wydarzenia/piana-party-vol-i-%e2%98%85-dnf-%e2%98%8
 5-dycha-za-dyche/
SUMMARY:PIANA PARTY VOL. I ★ DNF ★ Dycha za dychę!
DESCRIPTION:PIANA PARTY I ★ DNF\nPT 31.05.2019 ☆ ENERGY 2000 PRZYTKOWIC
 E\nW piątek 31 maja\, zapraszamy Was na pierwszą imprezę z cyklu PIANA 
 PARTY! Oficjalne Otwarcie Sezonu Letniego w Energy 2000 Przytkowice! Tej n
 ocy zostanie użyta nasza niesamowita wyrzutnia piany MEGA FOAM JET. To po
 tężne urządzenie\, generuje miliony litrów piany i wyrzuca je z prędk
 ością 100 km/h na odległość ponad 15 metrów. Uwierzcie nam na słowo
 ... czegoś takiego jeszcze nie przeżyliście! Gościem specjalnym tego w
 ydarzenia będzie DNF! Twórca mega klubowych hitów: "SICK"\, "READY FOR 
 THE BOUNCE"\, "PUT YOUR HANDS UP" i wielu innych! \n\nUWAGA! Tej nocy obow
 iązuje akcja DYCH ZA DYCHĘ! Płacicie dyszkę za wstęp\, a od nas dosta
 jecie dyszkę energicznej kasy\, do wykorzystania na barze!\n\nZagrają: \
 nMain Stage: Thomas | Don Pablo & Daniels\nSala Dance: DeSebastiano & Disc
 otek\nSala VIP: Skrzypa\n\nBilet: 10 PLN | Wiek: +16 lat | Start: 21:00\n\
 nPROMOCJA / URODZINY/KAWALERSKIE/PANIEŃSKIE - AKTYWNA. Zasady promocji zn
 ajdziesz w naszym FAQ.\n\nRezerwacja loży: ON-LINE: Dla zarejestrowanych 
 i po zalogowaniu na naszej stronie www\, w zakładce: KLUB/REZERWACJE lub 
 TELEFONICZNIE pod nr. 33 876 88 12 wew.23 od pon. do pt. w godz. 8-16. Sob
 ota (15:00 – 19:00) pod nr.tel. 609 539 580
ATTACH;FMTTYPE=image/jpeg:https://night4u.pl/wp-content/uploads/2019/05/37
 688_image_57485035_2290541454325621_4522615878541377536_o.jpg
CATEGORIES:małopolskie
LOCATION:Energy 2000 Przytkowice\, Przytkowice 532 a\, Przytkowice\, 34-141
 \, Poland
GEO:49.902767;19.693146
X-APPLE-STRUCTURED-LOCATION;VALUE=URI;X-ADDRESS=Przytkowice 532 a\, Przytko
 wice\, 34-141\, Poland;X-APPLE-RADIUS=100;X-TITLE=Energy 2000 Przytkowice:
 geo:49.902767,19.693146
END:VEVENT
BEGIN:VTIMEZONE
TZID:Europe/Warsaw
X-LIC-LOCATION:Europe/Warsaw
BEGIN:DAYLIGHT
DTSTART:20190331T030000
TZOFFSETFROM:+0100
TZOFFSETTO:+0200
TZNAME:CEST
END:DAYLIGHT
END:VTIMEZONE
END:VCALENDAR