BEGIN:VCALENDAR
VERSION:2.0
PRODID:-//wp-events-plugin.com//7.2.3.1//EN
TZID:Europe/Warsaw
X-WR-TIMEZONE:Europe/Warsaw
BEGIN:VEVENT
UID:20869@night4u.pl
DTSTART;TZID=Europe/Warsaw:20190712T210000
DTEND;TZID=Europe/Warsaw:20190713T050000
DTSTAMP:20190703T150133Z
URL:https://night4u.pl/wydarzenia/piana-party-w-kosmos-club-kielce-summer-
 party-natarasie/
SUMMARY:Piana Party w Kosmos Club Kielce | Summer Party | #natarasie
DESCRIPTION:Temperatura sięga zenitu\, więc czas troszkę schłodzić atm
 osfere‼️\nDziewczyny wskakujcie w bikini\, chłopaki zrzucajcie koszul
 e! ? \n\nCiepły wakacyjny klimat\, plenerowa atmosfera\, drinki z palemk
 ą a do tego cały taras wypełniony pianą! ??‍♀️?\n\nSuper promocj
 e na barze!\n-Sex on the beach 9 PLN!!\n-Piwo Studenckie 5PLN\n\nWejście:
 \n\n15 PLN\n\nPIANA PARTY już 12.07.19r . #NaTarasie w @MkBowling & Kosmo
 s Club Kielce! ??\n\nZapraszamy Was na jedyną taką wakacyjną impreze! I
 biza przenosi się do Kosmosu‼️
ATTACH;FMTTYPE=image/jpeg:https://night4u.pl/wp-content/uploads/2019/07/49
 946_image_66053824_2279670075450561_5198410527092506624_o.jpg
CATEGORIES:świętokrzyskie
LOCATION:MK Bowling &amp\; Kosmos Club Kielce\, Świętokrzyska 20\, Kielce
 \, 25-406\, Poland
GEO:50.879358;20.647186
X-APPLE-STRUCTURED-LOCATION;VALUE=URI;X-ADDRESS=Świętokrzyska 20\, Kielce
 \, 25-406\, Poland;X-APPLE-RADIUS=100;X-TITLE=MK Bowling & Kosmos Club Kie
 lce:geo:50.879358,20.647186
END:VEVENT
BEGIN:VTIMEZONE
TZID:Europe/Warsaw
X-LIC-LOCATION:Europe/Warsaw
BEGIN:DAYLIGHT
DTSTART:20190331T030000
TZOFFSETFROM:+0100
TZOFFSETTO:+0200
TZNAME:CEST
END:DAYLIGHT
END:VTIMEZONE
END:VCALENDAR