BEGIN:VCALENDAR
VERSION:2.0
PRODID:-//wp-events-plugin.com//7.2.3.1//EN
TZID:Europe/Warsaw
X-WR-TIMEZONE:Europe/Warsaw
BEGIN:VEVENT
UID:17875@night4u.pl
DTSTART;TZID=Europe/Warsaw:20190607T210000
DTEND;TZID=Europe/Warsaw:20190608T040000
DTSTAMP:20190531T213853Z
URL:https://night4u.pl/wydarzenia/piatek-07-06-%e2%98%85d-b-l%e2%98%85/
SUMMARY:Piątek 07.06 ★D B L★
DESCRIPTION:W piątek 7 czerwca gościć będziemy waszego ulubionego produ
 centa - DBL'a !!! \n\nSprawdźcie jego najnowsze hity:\n\nStromae - Alors 
 on Danse (DBL Remix)\nhttps://www.youtube.com/watch?v=6-yHmIZgWHg\n\nDBL -
  INNOCENT\nhttps://www.youtube.com/watch?v=MrcvNAzRzvE\n\nAkon - Smack Tha
 t (NEXBOY & DBL Bootleg)\nhttps://www.youtube.com/watch?v=6Nx3K3wtaR8\n\nJ
 ako support WOJTASS \nNa sali czerwonej THOMEE D \n\nRezerwacje stolików 
 online: http://bit.ly/1SPb2Df\n\nMamy dla was 10 wejściówek na ten event
 !\nAby wziąć udział w konkursie należy dopisać się do wydarzenia\, u
 dostępnić je\, oraz zaprosić co najmniej 100 znajomych! W komentarzach 
 do wydarzenia należy napisać liczbę os przed i po zaproszeniu\, a takż
 e ile os się zaprosiło np przed 1000 po 1100 - zaproszono 100. Spośród
  klubowiczów\, którzy wezmą udział w konkursie wylosujemy 10 wejśció
 wek!\n\nRODO:\n\nAdministratorem Pani/Pana danych osobowych jest Media Ser
 wis M.Krzosek SP.J z siedzibą w Staej Błotnicy 5A. Dane przetwarzane są
  wyłącznie w celu korespondecji lub wzięcia udziału w konkursie \, jak
  również w celu archiwizacji korespondencji. Podanie danych jest dobrowo
 lne. Przysługuje Pani/Panu prawo dostępu do danych osobowych oraz prawo 
 ich sprostowania\, usunięcia lub ograniczenia przetwarzania\, prawo wnies
 ienia sprzeciwu wobec ich przetwarzania oraz prawo do przenoszenia danych\
 ; do wniesienia skargi do Urzędu Ochrony Danych Osobowych\, gdy uzna Pan/
 Pani\, że przetwarzanie danych osobowych dotyczących Pani/Pana narusza p
 rzepisy o ochronie danych osobowych\; do treści swoich danych\, ich popra
 wiania oraz prawo usunięcia danych w każdym czasie. Dane nie będą prze
 twarzane w sposób zautomatyzowany. Jeżeli ma Pani/Pan pytania dotyczące
  ochrony danych osobowych\, prosimy o kontakt na clublemonradom@gmail.com
ATTACH;FMTTYPE=image/jpeg:https://night4u.pl/wp-content/uploads/2019/05/43
 362_image_61565028_2308153442574720_6064071386148634624_o.jpg
CATEGORIES:mazowieckie
LOCATION:LEMON Sound Gallery\, Przemysłowa 23\, Radom\, 26-600\, Poland
GEO:51.39058;21.14899
X-APPLE-STRUCTURED-LOCATION;VALUE=URI;X-ADDRESS=Przemysłowa 23\, Radom\, 2
 6-600\, Poland;X-APPLE-RADIUS=100;X-TITLE=LEMON Sound Gallery:geo:51.39058
 ,21.14899
END:VEVENT
BEGIN:VTIMEZONE
TZID:Europe/Warsaw
X-LIC-LOCATION:Europe/Warsaw
BEGIN:DAYLIGHT
DTSTART:20190331T030000
TZOFFSETFROM:+0100
TZOFFSETTO:+0200
TZNAME:CEST
END:DAYLIGHT
END:VTIMEZONE
END:VCALENDAR