BEGIN:VCALENDAR
VERSION:2.0
PRODID:-//wp-events-plugin.com//7.2.3.1//EN
TZID:Europe/Warsaw
X-WR-TIMEZONE:Europe/Warsaw
BEGIN:VEVENT
UID:6351@night4u.pl
DTSTART;TZID=Europe/Warsaw:20190208T210000
DTEND;TZID=Europe/Warsaw:20190209T040000
DTSTAMP:20190206T165014Z
URL:https://night4u.pl/wydarzenia/piatek-08-02-retro-city-with-dj-diabllo/
SUMMARY:Piątek 08.02 Retro City with DJ Diabllo
DESCRIPTION:W piątek 8 lutego zapraszamy na zakończenie ferii w klimatach
  najpiękniejszych muzycznych wspomnień! Tej nocy po raz pierwszy do Rado
 mia zawita kultowy już ogólnopolski cykl RETRO CITY!\n\nGwiazdą wieczor
 u będzie DJ DIABLLO aka COORBY\, legenda Sunrise Festival\, człowiek kt
 óry w kołobrzeskim amfiteatrze obchodził swoje 20 lecie za konsola!\n\n
 Razem z nim DJ BLAZE z Krakowa!\n\nNa sali czerwonej brzmienia disco/dance
 /rnb zaserwuje:\nDUDI \n\nStart 21:00\n17+ \n\nRezerwacje stolików online
 : \n\nMamy dla was 10 wejściówek na ten event!\nAby wziąć udział w ko
 nkursie należy dopisać się do wydarzenia\, udostępnić je\, oraz zapro
 sić co najmniej 100 znajomych! W komentarzach do wydarzenia należy napis
 ać liczbę os przed i po zaproszeniu\, a także ile os się zaprosiło np
  przed 1000 po 1100 - zaproszono 100. Spośród klubowiczów\, którzy wez
 mą udział w konkursie wylosujemy 10 wejściówek!\n\nRODO:\n\nAdministra
 torem Pani/Pana danych osobowych jest Media Serwis M.Krzosek SP.J z siedzi
 bą w Staej Błotnicy 5A. Dane przetwarzane są wyłącznie w celu korespo
 ndecji lub wzięcia udziału w konkursie \, jak również w celu archiwiza
 cji korespondencji. Podanie danych jest dobrowolne. Przysługuje Pani/Panu
  prawo dostępu do danych osobowych oraz prawo ich sprostowania\, usunięc
 ia lub ograniczenia przetwarzania\, prawo wniesienia sprzeciwu wobec ich p
 rzetwarzania oraz prawo do przenoszenia danych\; do wniesienia skargi do U
 rzędu Ochrony Danych Osobowych\, gdy uzna Pan/Pani\, że przetwarzanie da
 nych osobowych dotyczących Pani/Pana narusza przepisy o ochronie danych o
 sobowych\; do treści swoich danych\, ich poprawiania oraz prawo usunięci
 a danych w każdym czasie. Dane nie będą przetwarzane w sposób zautomat
 yzowany. Jeżeli ma Pani/Pan pytania dotyczące ochrony danych osobowych\,
  prosimy o kontakt na clublemonradom@gmail.com
ATTACH;FMTTYPE=image/jpeg:https://night4u.pl/wp-content/uploads/2019/02/18
 822_image_51413042_2126937454029654_8413093694453841920_o.jpg
CATEGORIES:mazowieckie
LOCATION:LEMON Sound Gallery\, Przemysłowa 23\, Radom\, 26-600\, Poland
GEO:51.39058;21.14899
X-APPLE-STRUCTURED-LOCATION;VALUE=URI;X-ADDRESS=Przemysłowa 23\, Radom\, 2
 6-600\, Poland;X-APPLE-RADIUS=100;X-TITLE=LEMON Sound Gallery:geo:51.39058
 ,21.14899
END:VEVENT
BEGIN:VTIMEZONE
TZID:Europe/Warsaw
X-LIC-LOCATION:Europe/Warsaw
BEGIN:STANDARD
DTSTART:20181028T020000
TZOFFSETFROM:+0200
TZOFFSETTO:+0100
TZNAME:CET
END:STANDARD
END:VTIMEZONE
END:VCALENDAR