BEGIN:VCALENDAR
VERSION:2.0
PRODID:-//wp-events-plugin.com//7.2.3.1//EN
TZID:Europe/Warsaw
X-WR-TIMEZONE:Europe/Warsaw
BEGIN:VEVENT
UID:50220@night4u.pl
DTSTART;TZID=Europe/Warsaw:20200320T220000
DTEND;TZID=Europe/Warsaw:20200321T030000
DTSTAMP:20200318T184207Z
URL:https://night4u.pl/wydarzenia/piatek-20-03-noche-latina-w-unique/
SUMMARY:Piątek 20.03 // Noche Latina w Unique
DESCRIPTION:Wiemy\, że to uwielbiacie - kolejna impreza z serii NOCHE LATI
 NA 💃🏼\n\nPoczuj żar latino i wpraw swoje biodra w ruch 🔥\nCzeka 
 na Ciebie noc tak gorąca\, że długo o nie nie zapomnisz. Nasi barmani p
 rzygotują dla Ciebie kolorowe drinki\, a tancerki pokażą jak doskonale 
 zatańczyć do rytmów LATINO 💃🏼\n\nNajlepsze latynoskie rytmy zagra
  dla Ciebie DJ PRATS 🔥\n\nJedno jest pewne- co dzieje się na Noche Lat
 ina\, zostaje na Noche Latina.\n\nPartner imprezy: Pepsi Cola  \n\nW spraw
 ie rezerwacji napisz do nas wiadomość.\n\nRusz do tańca i podbij parkie
 t 🔥
ATTACH;FMTTYPE=image/jpeg:https://night4u.pl/wp-content/uploads/2020/03/17
 5700_image_89107669_3795611317124417_5008132601022513152_o.jpg
CATEGORIES:pomorskie
LOCATION:UNIQUE Club &amp\; Lounge Sopot\, Plac Zdrojowy 1\, Sopot\, 81-720
 \, Poland
GEO:54.445172;18.569209
X-APPLE-STRUCTURED-LOCATION;VALUE=URI;X-ADDRESS=Plac Zdrojowy 1\, Sopot\, 8
 1-720\, Poland;X-APPLE-RADIUS=100;X-TITLE=UNIQUE Club & Lounge Sopot:geo:5
 4.445172,18.569209
END:VEVENT
BEGIN:VTIMEZONE
TZID:Europe/Warsaw
X-LIC-LOCATION:Europe/Warsaw
BEGIN:STANDARD
DTSTART:20191027T020000
TZOFFSETFROM:+0200
TZOFFSETTO:+0100
TZNAME:CET
END:STANDARD
END:VTIMEZONE
END:VCALENDAR