BEGIN:VCALENDAR
VERSION:2.0
PRODID:-//wp-events-plugin.com//7.2.3.1//EN
TZID:Europe/Warsaw
X-WR-TIMEZONE:Europe/Warsaw
BEGIN:VEVENT
UID:34838@night4u.pl
DTSTART;TZID=Europe/Warsaw:20191108T210000
DTEND;TZID=Europe/Warsaw:20191109T040000
DTSTAMP:20191107T083729Z
URL:https://night4u.pl/wydarzenia/piatek-8-11-%e2%98%85d-b-l%e2%98%85/
SUMMARY:Piątek 8.11 ★D B L★
DESCRIPTION:W piątek 8 listopada zapraszamy na ostatnią wizytę DBL'a w L
 emonie w tym roku! \n\nZ pewnością uwielbiacie jego największe hity: \n
 \nDBL - Muchacho\nhttps://www.youtube.com/watch?v=3YfUPiJbKT8\n\nCat Deale
 rs - Gone Too Long (NEXBOY &amp\; DBL Remix)\nhttps://www.youtube.com/watc
 h?v=Tcix_I4TUFM\n\nStromae - Alors on Danse (DBL Remix)\nhttps://www.youtu
 be.com/watch?v=6-yHmIZgWHg\n\nDBL - INNOCENT\nhttps://www.youtube.com/watc
 h?v=MrcvNAzRzvE\n\nAkon - Smack That (NEXBOY &amp\; DBL Bootleg)\nhttps://
 www.youtube.com/watch?v=6Nx3K3wtaR8\n\nRazem z nim BLAZE \nNa sali czerwon
 ej DUDI \n\nStart 21:00\nWstęp 15 zl \n17+\n\nRezerwacje stolików online
 : http://bit.ly/1SPb2Df\n\nMamy dla was 10 wejściówek na ten event!\nAby
  wziąć udział w konkursie należy dopisać się do wydarzenia\, udostę
 pnić je\, oraz zaprosić co najmniej 100 znajomych! W komentarzach do wyd
 arzenia należy napisać liczbę os przed i po zaproszeniu\, a także ile 
 os się zaprosiło np przed 1000 po 1100 - zaproszono 100. Spośród klubo
 wiczów\, którzy wezmą udział w konkursie wylosujemy 10 wejściówek!\n
 \nRODO:\n\nAdministratorem Pani/Pana danych osobowych jest Media Serwis M.
 Krzosek SP.J z siedzibą w Staej Błotnicy 5A. Dane przetwarzane są wył
 ącznie w celu korespondecji lub wzięcia udziału w konkursie \, jak rów
 nież w celu archiwizacji korespondencji. Podanie danych jest dobrowolne. 
 Przysługuje Pani/Panu prawo dostępu do danych osobowych oraz prawo ich s
 prostowania\, usunięcia lub ograniczenia przetwarzania\, prawo wniesienia
  sprzeciwu wobec ich przetwarzania oraz prawo do przenoszenia danych\; do 
 wniesienia skargi do Urzędu Ochrony Danych Osobowych\, gdy uzna Pan/Pani\
 , że przetwarzanie danych osobowych dotyczących Pani/Pana narusza przepi
 sy o ochronie danych osobowych\; do treści swoich danych\, ich poprawiani
 a oraz prawo usunięcia danych w każdym czasie. Dane nie będą przetwarz
 ane w sposób zautomatyzowany. Jeżeli ma Pani/Pan pytania dotyczące ochr
 ony danych osobowych\, prosimy o kontakt na clublemonradom@gmail.com
ATTACH;FMTTYPE=image/jpeg:https://night4u.pl/wp-content/uploads/2019/11/91
 329_image_73325425_2597936843596377_333075078877020160_o.jpg
CATEGORIES:mazowieckie
LOCATION:LEMON Sound Gallery\, Przemysłowa 23\, Radom\, 26-600\, Poland
GEO:51.39058;21.14899
X-APPLE-STRUCTURED-LOCATION;VALUE=URI;X-ADDRESS=Przemysłowa 23\, Radom\, 2
 6-600\, Poland;X-APPLE-RADIUS=100;X-TITLE=LEMON Sound Gallery:geo:51.39058
 ,21.14899
END:VEVENT
BEGIN:VTIMEZONE
TZID:Europe/Warsaw
X-LIC-LOCATION:Europe/Warsaw
BEGIN:STANDARD
DTSTART:20191027T020000
TZOFFSETFROM:+0200
TZOFFSETTO:+0100
TZNAME:CET
END:STANDARD
END:VTIMEZONE
END:VCALENDAR