BEGIN:VCALENDAR
VERSION:2.0
PRODID:-//wp-events-plugin.com//7.2.3.1//EN
TZID:Europe/Warsaw
X-WR-TIMEZONE:Europe/Warsaw
BEGIN:VEVENT
UID:38166@night4u.pl
DTSTART;TZID=Europe/Warsaw:20191220T210000
DTEND;TZID=Europe/Warsaw:20191221T030000
DTSTAMP:20191220T083617Z
URL:https://night4u.pl/wydarzenia/piatek-eat-drink-dance-4/
SUMMARY:Piątek*** // Eat / Drink / Dance /
DESCRIPTION:Zacznij dobrze weekend z Archiwum Club\nSPOTKAJMY SIĘ \n\n➡
 ️ Start --&gt\; 21:00 ⬅️\n🔸 Door Selection 🔸\n\nPotrzebujesz l
 ożę❓Zadzwoń 886 886 108\n\nZapraszamy!
ATTACH;FMTTYPE=image/jpeg:https://night4u.pl/wp-content/uploads/2019/12/10
 9074_image_78367825_2729838647038374_7103046828572016640_o.jpg
CATEGORIES:mazowieckie
LOCATION:Archiwum Club\, Grzecznarowskiego 2\, Radom\, 26-600\, Poland
GEO:51.389997;21.149948
X-APPLE-STRUCTURED-LOCATION;VALUE=URI;X-ADDRESS=Grzecznarowskiego 2\, Radom
 \, 26-600\, Poland;X-APPLE-RADIUS=100;X-TITLE=Archiwum Club:geo:51.389997,
 21.149948
END:VEVENT
BEGIN:VTIMEZONE
TZID:Europe/Warsaw
X-LIC-LOCATION:Europe/Warsaw
BEGIN:STANDARD
DTSTART:20191027T020000
TZOFFSETFROM:+0200
TZOFFSETTO:+0100
TZNAME:CET
END:STANDARD
END:VTIMEZONE
END:VCALENDAR