BEGIN:VCALENDAR
VERSION:2.0
PRODID:-//wp-events-plugin.com//7.2.3.1//EN
TZID:Europe/Warsaw
X-WR-TIMEZONE:Europe/Warsaw
BEGIN:VEVENT
UID:34754@night4u.pl
DTSTART;TZID=Europe/Warsaw:20191122T200000
DTEND;TZID=Europe/Warsaw:20191123T040000
DTSTAMP:20200401T084234Z
URL:https://night4u.pl/wydarzenia/piatek-i-22-listopada-i-klub-nieczynny-i
 -impreza-firmowa/
SUMMARY:Piątek I 22 listopada I Klub nieczynny I Impreza firmowa
DESCRIPTION:W piątek nasz klub jest nieczynny\n\nZarezerwuj cały klub/ma
 łą salę/VIP Room na wyłączność:\nhttps://prywatkaklub.pl/rezerwacje
 \n☎️ 666 020 100
ATTACH;FMTTYPE=image/jpeg:https://night4u.pl/wp-content/uploads/2019/11/90
 932_image_73533075_529220521194438_6176017462450978816_o.jpg
CATEGORIES:łódzkie
LOCATION:Prywatka\, Andrzeja Struga 8/10\, Łódź\, 90-426\, Poland
GEO:51.765118;19.455113
X-APPLE-STRUCTURED-LOCATION;VALUE=URI;X-ADDRESS=Andrzeja Struga 8/10\, Łó
 dź\, 90-426\, Poland;X-APPLE-RADIUS=100;X-TITLE=Prywatka:geo:51.765118,19
 .455113
END:VEVENT
BEGIN:VTIMEZONE
TZID:Europe/Warsaw
X-LIC-LOCATION:Europe/Warsaw
BEGIN:STANDARD
DTSTART:20191027T020000
TZOFFSETFROM:+0200
TZOFFSETTO:+0100
TZNAME:CET
END:STANDARD
END:VTIMEZONE
END:VCALENDAR