BEGIN:VCALENDAR
VERSION:2.0
PRODID:-//wp-events-plugin.com//7.2.3.1//EN
TZID:Europe/Warsaw
X-WR-TIMEZONE:Europe/Warsaw
BEGIN:VEVENT
UID:19456@night4u.pl
DTSTART;TZID=Europe/Warsaw:20190628T210000
DTEND;TZID=Europe/Warsaw:20190629T040000
DTSTAMP:20190615T024809Z
URL:https://night4u.pl/wydarzenia/piatek-piateczek-piatunio-28-06-wstep-10
 -zl-os/
SUMMARY:Piątek\, Piąteczek\, Piątunio! // 28.06 // Wstęp 10 zł/os.
DESCRIPTION:[ENGLISH VERSION BELOW]\n\nPiątek - dzień wyczekiwany już od
  każdego ponurego poniedziałku. Dla jednych to koniec tygodnia\, ale dla
  niektórych dopiero początek kolejnej niezapomnianej weekendowej przygod
 y. Na Kościuszki 3 zdecydowanie jesteśmy za tą drugą opcją. Przyjdź 
 i daj porwać się zabawie!\n\nDo zobaczenia!\n\nWSTĘP:\n10 zł przez CA
 ŁĄ NOC.\nUWAGA: klub przeznaczony jest dla osób powyżej 25 roku życia
  - osoby młodsze nie zostaną wpuszczone do klubu (nawet mimo rezerwacji 
 loży).\n\nREZERWACJE STOLIKÓW (WYŁĄCZNIE ONLINE):\nhttp://krakow.klub3
 0.pl/rezerwacje\n\nRezerwacje włączane są z 2 tygodniowym wyprzedzeniem
 !\n--------------------------------------\n\n[ENGLISH VERSION]\n\nEast\, W
 est\, home's best! Klub30 is certainly the best place in the city to spend
  your time well!\n\nBest music\, the most delicious drinks and good compan
 y - guaranteed!\n\nKlub30 - the best club for thirty-somethings!\n\n------
 --------------------------------\nENTRY:\n10 PLN all night long\n---------
 -----------------------------
ATTACH;FMTTYPE=image/jpeg:https://night4u.pl/wp-content/uploads/2019/06/46
 902_image_62575449_2357620407894779_1751012360752988160_o.jpg
CATEGORIES:małopolskie
LOCATION:Klub30 Kraków\, T. Kościuszki 3\, Kraków\, 30-105\, Poland
GEO:50.05513;19.92665
X-APPLE-STRUCTURED-LOCATION;VALUE=URI;X-ADDRESS=T. Kościuszki 3\, Kraków\
 , 30-105\, Poland;X-APPLE-RADIUS=100;X-TITLE=Klub30 Kraków:geo:50.05513,1
 9.92665
END:VEVENT
BEGIN:VTIMEZONE
TZID:Europe/Warsaw
X-LIC-LOCATION:Europe/Warsaw
BEGIN:DAYLIGHT
DTSTART:20190331T030000
TZOFFSETFROM:+0100
TZOFFSETTO:+0200
TZNAME:CEST
END:DAYLIGHT
END:VTIMEZONE
END:VCALENDAR