BEGIN:VCALENDAR
VERSION:2.0
PRODID:-//wp-events-plugin.com//7.2.3.1//EN
TZID:Europe/Warsaw
X-WR-TIMEZONE:Europe/Warsaw
BEGIN:VEVENT
UID:513@night4u.pl
DTSTART;TZID=Europe/Warsaw:20181221T210000
DTEND;TZID=Europe/Warsaw:20181222T050000
DTSTAMP:20181217T171616Z
URL:https://night4u.pl/wydarzenia/piatek-piateczek-piatunio-piatek-21-12-b
 and30-live/
SUMMARY:Piątek\, Piąteczek\, Piątunio! // Piątek 21.12 // Band30+ Live!
DESCRIPTION:Piątek - dzień wyczekiwany już od każdego ponurego poniedzi
 ałku. Dla jednych to koniec tygodnia\, ale dla niektórych dopiero począ
 tek kolejnej niezapomnianej weekendowej przygody. Na Jasnej 7 zdecydowanie
  jesteśmy za tą drugą opcją. Przyjdź i daj porwać się zabawie!\n\nD
 o taktu zagra nasz niezawodny BAND30+ LIVE.\n\nKlub30 - musisz być razem 
 z nami!\n\nLINE-UP:\nBAND30+ LIVE/SZELA (70s 80s)\nSLIMYNOISE (TOP HITS)\n
 \n------------------------------------------------------------------------
 ------------\nDla kogo jest Klub30 ? \nSzykujemy dla Was miejsce\, w któr
 ym bez problemu znajdziecie wspólny język z innymi klubowiczami. Nie spo
 tkasz tu swojej córki\, nie spotkasz tu swoich studentów...\nZa to na pe
 wno spotkasz ludzi\, którzy nie wyobrażają sobie siedzieć wieczorem w 
 domu.\n-------------------------------------------------------------------
 -----------------\nSTART: 21:00\n\nWSTĘP:\ndo 23:00 - 10PLN\npo 23:00 - 1
 5PLN\n\nRezerwacje: 574 649 583 (wtorek - sobota\, 16:00 - 19:00)\n\nW nas
 zym klubie istnieje możliwość przygotowania cateringu! To świetna opcj
 a na wieczory panieńskie\, kawalerskie czy spotkania biznesowe. Jeżeli j
 esteś zainteresowany/a - powiadom nas o tym przy rezerwacji telefonicznej
 !\n\nNajlepiej po trzydziestce... :) \nObowiązuje door selection
ATTACH;FMTTYPE=image/jpeg:https://night4u.pl/wp-content/uploads/2018/12/47
 18_image_48178017_2005076089785298_6467135504029581312_o.jpg
CATEGORIES:lubelskie
LOCATION:Klub30 Lublin\, Lublin\, Poland
GEO:51.249038;22.552872
X-APPLE-STRUCTURED-LOCATION;VALUE=URI;X-ADDRESS=Lublin\, Poland;X-APPLE-RAD
 IUS=100;X-TITLE=Klub30 Lublin:geo:51.249038,22.552872
END:VEVENT
BEGIN:VTIMEZONE
TZID:Europe/Warsaw
X-LIC-LOCATION:Europe/Warsaw
BEGIN:STANDARD
DTSTART:20181028T020000
TZOFFSETFROM:+0200
TZOFFSETTO:+0100
TZNAME:CET
END:STANDARD
END:VTIMEZONE
END:VCALENDAR