BEGIN:VCALENDAR
VERSION:2.0
PRODID:-//wp-events-plugin.com//7.2.3.1//EN
TZID:Europe/Warsaw
X-WR-TIMEZONE:Europe/Warsaw
BEGIN:VEVENT
UID:49892@night4u.pl
DTSTART;TZID=Europe/Warsaw:20200313T220000
DTEND;TZID=Europe/Warsaw:20200314T040000
DTSTAMP:20200311T190734Z
URL:https://night4u.pl/wydarzenia/piatek-trzynastego-nitro-club-nysa/
SUMMARY:Piątek Trzynastego // Nitro Club Nysa
DESCRIPTION:Piątek Trzynastego w Nitro Club !\nSpokojnie\, u nas pecha nie
  ma :D\n\nRezerwacje: 510 919 157\nKonsola: Dj Diaz\nStart: 22:00
ATTACH;FMTTYPE=image/jpeg:https://night4u.pl/wp-content/uploads/2020/03/17
 4128_image_89461312_2764674440254202_4869384726202286080_o.jpg
CATEGORIES:opolskie
LOCATION:Nitro Club Nysa\, Nysa\, Poland
GEO:50.480313;17.339196
X-APPLE-STRUCTURED-LOCATION;VALUE=URI;X-ADDRESS=Nysa\, Poland;X-APPLE-RADIU
 S=100;X-TITLE=Nitro Club Nysa:geo:50.480313,17.339196
END:VEVENT
BEGIN:VTIMEZONE
TZID:Europe/Warsaw
X-LIC-LOCATION:Europe/Warsaw
BEGIN:STANDARD
DTSTART:20191027T020000
TZOFFSETFROM:+0200
TZOFFSETTO:+0100
TZNAME:CET
END:STANDARD
END:VTIMEZONE
END:VCALENDAR