BEGIN:VCALENDAR
VERSION:2.0
PRODID:-//wp-events-plugin.com//7.2.3.1//EN
TZID:Europe/Warsaw
X-WR-TIMEZONE:Europe/Warsaw
BEGIN:VEVENT
UID:16154@night4u.pl
DTSTART;TZID=Europe/Warsaw:20190517T190000
DTEND;TZID=Europe/Warsaw:20190517T190000
DTSTAMP:20190514T213738Z
URL:https://night4u.pl/wydarzenia/piatek-w-rytmie-aperitivo-dj-bertall-3/
SUMMARY:Piątek w rytmie #Aperitivo :: Dj Bertall
DESCRIPTION:Pani i Panowie ! \n\nW piątek jak zwykle bujamy się w rytmie 
 #Aperitivo ? Muzykę zapewni Nasz zawodnik Bertall\, ekipa przygotuje pysz
 ne koktajle\, a kuchnia zaserwuje wybitne przystawki i nie tylko ??\nRezer
 wujcie stolik\, odwiedzajcie Nas i siadajcie przy barze ?\n\nDo zobaczenia
  na #Narutowicza \nSTART - 19:00\nMUZYKA - Dj Bertall \nKOKTAJLE - Bubasz\
 , Mati i Bonzo
ATTACH;FMTTYPE=image/jpeg:https://night4u.pl/wp-content/uploads/2019/05/39
 587_image_60245601_410276853157719_2363341772219744256_n.jpg
CATEGORIES:lubelskie
LOCATION:Bombardino Aperitivo Narutowicza\, Narutowicza 19\, Lublin\, 20-00
 4\, Poland
GEO:51.24622;22.56082
X-APPLE-STRUCTURED-LOCATION;VALUE=URI;X-ADDRESS=Narutowicza 19\, Lublin\, 2
 0-004\, Poland;X-APPLE-RADIUS=100;X-TITLE=Bombardino Aperitivo Narutowicza
 :geo:51.24622,22.56082
END:VEVENT
BEGIN:VTIMEZONE
TZID:Europe/Warsaw
X-LIC-LOCATION:Europe/Warsaw
BEGIN:DAYLIGHT
DTSTART:20190331T030000
TZOFFSETFROM:+0100
TZOFFSETTO:+0200
TZNAME:CEST
END:DAYLIGHT
END:VTIMEZONE
END:VCALENDAR