BEGIN:VCALENDAR
VERSION:2.0
PRODID:-//wp-events-plugin.com//7.2.3.1//EN
TZID:Europe/Warsaw
X-WR-TIMEZONE:Europe/Warsaw
BEGIN:VEVENT
UID:21886@night4u.pl
DTSTART;TZID=Europe/Warsaw:20190712T210000
DTEND;TZID=Europe/Warsaw:20190713T040000
DTSTAMP:20190709T224126Z
URL:https://night4u.pl/wydarzenia/piatek-w-rytmie-hitow-rezerwacje-wstep-f
 ree-10/
SUMMARY:Piątek W Rytmie Hitów / Rezerwacje Wstęp Free
DESCRIPTION:W każdy #piątek na naszym parkiecie najbardziej taneczna mies
 zanka  polskiej i zagranicznej muzyki DISCO / DANCE\n? Za konsoletą : Grz
 egorz Malecki DJ GM\n? Data\n12.07.2019 start godzina 21:00\n\n?  Wstęp :
 \n? REZERWACJE wstęp WOLNY w pakiecie ( do 22:00 )\n? Panie wstęp WOLNY 
 do godziny 23:00 / po 23:00 10 PLN\n? Panowie 20\,\n\n☛ Rezerwacje\n☎
 ️️ 501-767-559\n? http://bit.ly/rezerwacje_discofama\n\nℹ️️️ L
 oża/ stolik do 8 osób 100PLN ( w tym 1x ZESTAW  // 0\,5 wódki Stock plu
 s 1\,0 soft // )\nℹ️️ Loża 9-16 osób 200PLN ( w tym 2 x ZESTAW // 
 0\,5 wódki Stock plus 1\,0 soft // )\nℹ️️️ Vip room ( ok 30 miejs
 c ) - do indywidualnych ustaleń\n \n☛ Wstęp : Panie 19 +\, Panowie 21+
 \n☛ W klubie obowiązuje SELEKCJA
ATTACH;FMTTYPE=image/jpeg:https://night4u.pl/wp-content/uploads/2019/07/51
 864_image_66517924_2393123947616625_6307612228153507840_o.jpg
CATEGORIES:zachodniopomorskie
END:VEVENT
BEGIN:VTIMEZONE
TZID:Europe/Warsaw
X-LIC-LOCATION:Europe/Warsaw
BEGIN:DAYLIGHT
DTSTART:20190331T030000
TZOFFSETFROM:+0100
TZOFFSETTO:+0200
TZNAME:CEST
END:DAYLIGHT
END:VTIMEZONE
END:VCALENDAR