BEGIN:VCALENDAR
VERSION:2.0
PRODID:-//wp-events-plugin.com//7.2.3.1//EN
TZID:Europe/Warsaw
X-WR-TIMEZONE:Europe/Warsaw
BEGIN:VEVENT
UID:1426@night4u.pl
DTSTART;TZID=Europe/Warsaw:20181228T210000
DTEND;TZID=Europe/Warsaw:20181228T210000
DTSTAMP:20181227T232332Z
URL:https://night4u.pl/wydarzenia/piatek-x-exo-sam-w-miecie/
SUMMARY:Piątek x Exo Sam W Mięcie
DESCRIPTION:Exo sam w Mięcie!\nAll nite long!\n\nTej nocy nasz rezydent po
 prowadzi Was przez imprezę jak prawdziwy wódz!\n\nDJ Exo podczas swojej 
 wieloletniej muzycznej kariery poznał najskrytsze tajniki sztuki imprezow
 ania. Jak nikt inny potrafi wprowadzać tańczących w stan euforii! Daj s
 ię ponieść!\n\nExo sam w mięcie zostaje tylko raz w roku.\n\nStart:21:
 00\nTax: 10pln\nSelekcja +21
ATTACH;FMTTYPE=image/jpeg:https://night4u.pl/wp-content/uploads/2018/12/67
 01_image_48928857_2586377664922436_3815394125356728320_o.jpg
CATEGORIES:warmińsko-mazurskie
LOCATION:Klub Mięta\, Świętej Barbary 9\,\, Olsztyn\, 11-041\, Poland
GEO:53.776619;20.476819
X-APPLE-STRUCTURED-LOCATION;VALUE=URI;X-ADDRESS=Świętej Barbary 9\,\, Ols
 ztyn\, 11-041\, Poland;X-APPLE-RADIUS=100;X-TITLE=Klub Mięta:geo:53.77661
 9,20.476819
END:VEVENT
BEGIN:VTIMEZONE
TZID:Europe/Warsaw
X-LIC-LOCATION:Europe/Warsaw
BEGIN:STANDARD
DTSTART:20181028T020000
TZOFFSETFROM:+0200
TZOFFSETTO:+0100
TZNAME:CET
END:STANDARD
END:VTIMEZONE
END:VCALENDAR