BEGIN:VCALENDAR
VERSION:2.0
PRODID:-//wp-events-plugin.com//7.2.3.1//EN
TZID:Europe/Warsaw
X-WR-TIMEZONE:Europe/Warsaw
BEGIN:VEVENT
UID:13820@night4u.pl
DTSTART;TZID=Europe/Warsaw:20190426T210000
DTEND;TZID=Europe/Warsaw:20190426T210000
DTSTAMP:20190425T215633Z
URL:https://night4u.pl/wydarzenia/piatek-x-gdzie-ci-bedzie-lepiej-x-meg-vo
 cal/
SUMMARY:piątek X Gdzie Ci Będzie Lepiej x Meg (Vocal)
DESCRIPTION:Gdzie Ci będzie lepiej? \nPrzecież właśnie dla Ciebie przyg
 otowaliśmy piękną balangę. Najlepsze parkietowe bangery\, nasza ekipa 
 za barem\, oraz niesamowity głos MEG to recepta na niezapomniany piątecz
 ek!\n\n\nDjs:\n?MEG (vocal)\n?Bolo\n?Wuer\n\nMusic: Bangers ALL NITE LONG\
 nStart: 21:00\nTax: 10PLN\nSelekcja +21
ATTACH;FMTTYPE=image/jpeg:https://night4u.pl/wp-content/uploads/2019/04/34
 655_image_57870549_2678868019006733_4107743542649028608_o.jpg
CATEGORIES:warmińsko-mazurskie
END:VEVENT
BEGIN:VTIMEZONE
TZID:Europe/Warsaw
X-LIC-LOCATION:Europe/Warsaw
BEGIN:DAYLIGHT
DTSTART:20190331T030000
TZOFFSETFROM:+0100
TZOFFSETTO:+0200
TZNAME:CEST
END:DAYLIGHT
END:VTIMEZONE
END:VCALENDAR