BEGIN:VCALENDAR
VERSION:2.0
PRODID:-//wp-events-plugin.com//7.2.3.1//EN
TZID:Europe/Warsaw
X-WR-TIMEZONE:Europe/Warsaw
BEGIN:VEVENT
UID:42017@night4u.pl
DTSTART;TZID=Europe/Warsaw:20200131T210000
DTEND;TZID=Europe/Warsaw:20200201T060000
DTSTAMP:20200131T172702Z
URL:https://night4u.pl/wydarzenia/piatkowa-najebajka-5/
SUMMARY:Piątkowa najeBajka
DESCRIPTION:Jak odreagować dobrze miniony tydzień? Tylko z piątkową naj
 eBajką!\n\n\nLista Facebook wstęp darmowy do godziny 23:00\n1 zamówieni
 e 0\,5l wódki + 1l napój w cenie 65 PLN\n\n\nStart 21:00\nWstęp 10 PLN\
 n\n\nGra dla Was: Dj Fisher!
ATTACH;FMTTYPE=image/jpeg:https://night4u.pl/wp-content/uploads/2020/01/13
 2524_image_81605070_1239179149601295_1337262888225603584_o.jpg
CATEGORIES:kujawsko-pomorskie
LOCATION:BAJKA DISCO CLUB Toruń\, Szeroka 19\, Torun\, 87-100\, Poland
GEO:53.01047;18.60732
X-APPLE-STRUCTURED-LOCATION;VALUE=URI;X-ADDRESS=Szeroka 19\, Torun\, 87-100
 \, Poland;X-APPLE-RADIUS=100;X-TITLE=BAJKA DISCO CLUB Toruń:geo:53.01047,
 18.60732
END:VEVENT
BEGIN:VTIMEZONE
TZID:Europe/Warsaw
X-LIC-LOCATION:Europe/Warsaw
BEGIN:STANDARD
DTSTART:20191027T020000
TZOFFSETFROM:+0200
TZOFFSETTO:+0100
TZNAME:CET
END:STANDARD
END:VTIMEZONE
END:VCALENDAR