BEGIN:VCALENDAR
VERSION:2.0
PRODID:-//wp-events-plugin.com//7.2.3.1//EN
TZID:Europe/Warsaw
X-WR-TIMEZONE:Europe/Warsaw
BEGIN:VEVENT
UID:50730@night4u.pl
DTSTART;TZID=Europe/Warsaw:20200918T210000
DTEND;TZID=Europe/Warsaw:20200919T060000
DTSTAMP:20200914T185943Z
URL:https://night4u.pl/wydarzenia/piatkowe-dachowanie-18-09/
SUMMARY:PIĄTKOWE DACHOWANIE // 18.09
DESCRIPTION:✨ Piątkowe Dachowanie ✨\nPiąteczek #nadachu ! Drineczki\,
  leżaczki i najlepszy vibe! Do zobaczenia 💕 \n\nPROMO NA BARZE:\nOd 21
 :00 - 23:00 Piwo Tyskie 0\,5l - 5 pln\n❌ WEJŚCIE DO LOKALU MOŻLIWE JES
 T TYLKO Z MASECZKĄ❌\n\n👉🏼 Możliwość zakupy maseczki w cenie 5 
 zł\n\nREZERWACJE STOLIKÓW: \n☎️725700205\nOd WTORKU do SOBOTY\n13:00
  - 16:00
ATTACH;FMTTYPE=image/jpeg:https://night4u.pl/wp-content/uploads/2020/09/18
 4756_image_119521722_3454634094579551_5900540415116044510_o.jpg
CATEGORIES:lubelskie
LOCATION:Riviera Klub Plażowy\, Lublin\, Poland
GEO:51.245225;22.557649
X-APPLE-STRUCTURED-LOCATION;VALUE=URI;X-ADDRESS=Lublin\, Poland;X-APPLE-RAD
 IUS=100;X-TITLE=Riviera Klub Plażowy:geo:51.245225,22.557649
END:VEVENT
BEGIN:VTIMEZONE
TZID:Europe/Warsaw
X-LIC-LOCATION:Europe/Warsaw
BEGIN:DAYLIGHT
DTSTART:20200329T030000
TZOFFSETFROM:+0100
TZOFFSETTO:+0200
TZNAME:CEST
END:DAYLIGHT
END:VTIMEZONE
END:VCALENDAR