BEGIN:VCALENDAR
VERSION:2.0
PRODID:-//wp-events-plugin.com//7.2.3.1//EN
TZID:Europe/Warsaw
X-WR-TIMEZONE:Europe/Warsaw
BEGIN:VEVENT
UID:36515@night4u.pl
DTSTART;TZID=Europe/Warsaw:20191122T200000
DTEND;TZID=Europe/Warsaw:20191123T010000
DTSTAMP:20191122T220538Z
URL:https://night4u.pl/wydarzenia/piatkowe-karaoke-w-paragrafie-16/
SUMMARY:Piątkowe Karaoke w Paragrafie!
DESCRIPTION:Piątkowe karaoke to już tradycja w kalendarzu studenta. Wiado
 ma sprawa\, że tradycję trzeba podtrzymywać więc nie może Was zabrakn
 ąć również i tym razem. \n\nZbierz paczkę przyjaciół i zarezerwuj b
 ezpłatnie stolik.\nPamiętajcie\, że śpiewać każdy może\, ale w Para
 grafie zawsze lepiej niż gorzej!! \;) \nPrawdziwy pokaz talentów tylko u
  nas!! :)\nWidzimy się na Langiewicza 12!!\nStart godzina 20.00.\n\nBezp
 łatna rezerwacja stolika.\nTel: 81 536 78 78\nZapraszamy!! :)
ATTACH;FMTTYPE=image/jpeg:https://night4u.pl/wp-content/uploads/2019/11/10
 0410_image_74205826_2793894473983442_2657890401746157568_n.jpg
CATEGORIES:lubelskie
END:VEVENT
BEGIN:VTIMEZONE
TZID:Europe/Warsaw
X-LIC-LOCATION:Europe/Warsaw
BEGIN:STANDARD
DTSTART:20191027T020000
TZOFFSETFROM:+0200
TZOFFSETTO:+0100
TZNAME:CET
END:STANDARD
END:VTIMEZONE
END:VCALENDAR