BEGIN:VCALENDAR
VERSION:2.0
PRODID:-//wp-events-plugin.com//7.2.3.1//EN
TZID:Europe/Warsaw
X-WR-TIMEZONE:Europe/Warsaw
BEGIN:VEVENT
UID:3067@night4u.pl
DTSTART;TZID=Europe/Warsaw:20190111T210000
DTEND;TZID=Europe/Warsaw:20190112T033000
DTSTAMP:20190108T171358Z
URL:https://night4u.pl/wydarzenia/piatkowe-ladies-night-w-ajrisz-levels/
SUMMARY:Piątkowe Ladies Night w Ajrisz Levels
DESCRIPTION:✪✪ Zbliża się kolejny styczniowy weekend\, a co za tym id
 zie zapraszamy do naszego klubu. Tym razem piątek kierujemy głównie do 
 płci pięknej !!! ✪✪\n\n☛ Darmowy shot dla każdej Pani na wejście
 \n☛ Przez całą noc super ceny na barze\n☛ Muzyka dla każdego \n\n
 ☘ Wejście: +17\n☘ START: 21:00\n☘ Wstęp: Panie do 22:00 FREE\, poz
 ostali do 22:00 5 zł\, później 10 zł\n\nPrzez całą noc nad waszym be
 zpieczeństwem będzie czuwać OCHRONA!\nLokal ma prawo do selekcji osób 
 (bez odzieży sportowej)!
ATTACH;FMTTYPE=image/jpeg:https://night4u.pl/wp-content/uploads/2019/01/10
 261_image_49608183_531488510660473_2635125404335079424_n.png
CATEGORIES:podkarpackie
LOCATION:Ajrisz Levels\, Słowackiego 4\, Krosno\, 38-400\, Poland
GEO:49.694471;21.765426
X-APPLE-STRUCTURED-LOCATION;VALUE=URI;X-ADDRESS=Słowackiego 4\, Krosno\, 3
 8-400\, Poland;X-APPLE-RADIUS=100;X-TITLE=Ajrisz Levels:geo:49.694471,21.7
 65426
END:VEVENT
BEGIN:VTIMEZONE
TZID:Europe/Warsaw
X-LIC-LOCATION:Europe/Warsaw
BEGIN:STANDARD
DTSTART:20181028T020000
TZOFFSETFROM:+0200
TZOFFSETTO:+0100
TZNAME:CET
END:STANDARD
END:VTIMEZONE
END:VCALENDAR