BEGIN:VCALENDAR
VERSION:2.0
PRODID:-//wp-events-plugin.com//7.2.3.1//EN
TZID:Europe/Warsaw
X-WR-TIMEZONE:Europe/Warsaw
BEGIN:VEVENT
UID:50726@night4u.pl
DTSTART;TZID=Europe/Warsaw:20200911T210000
DTEND;TZID=Europe/Warsaw:20200912T060000
DTSTAMP:20200914T185932Z
URL:https://night4u.pl/wydarzenia/piatkowe-spotkanie-towarzyskie-11-09/
SUMMARY:Piątkowe Spotkanie Towarzyskie // 11.09
DESCRIPTION:Piąteczek na luzie\, bez spinki!\nPlan na rozpoczęcie weekend
 u jest taki\, spotykamy się przy barze i  balujemy do rana przy muzyce kt
 órą zaserwuje nam Dj Danny!\nMożecie spodziewać się największych hit
 ów lat 70\,80\,90's przeplatane z największymi Polskimi smaczkami!\nBrzm
 i pięknie\, prawda? ♥\n\n----------------------------------------------
 -----------\n⭐️ PIĄTEK ⭐️\n➡️Start 21:00\n\n❌ WEJŚCIE DO L
 OKALU MOŻLIWE JEST TYLKO Z MASECZKĄ❌\n👉🏼 Możliwość zakupy mas
 eczki w cenie 5 zł\n\n\nBilet wstępu obowiązuje do lokali:\nRzut Berete
 m\nRIVIERA\n\nREZERWACJE STOLIKÓW: \n☎️725700205\nOd WTORKU do SOBOTY
 \n13:00 - 16:00\nObowiązuje DOOR SELECTION
ATTACH;FMTTYPE=image/jpeg:https://night4u.pl/wp-content/uploads/2020/09/18
 4748_image_119059886_2310414052438797_704394173868527939_o.jpg
CATEGORIES:lubelskie
LOCATION:Rzut Beretem\, Hempla 5\, Lublin\, 20-008\, Poland
GEO:51.245421;22.557279
X-APPLE-STRUCTURED-LOCATION;VALUE=URI;X-ADDRESS=Hempla 5\, Lublin\, 20-008\
 , Poland;X-APPLE-RADIUS=100;X-TITLE=Rzut Beretem:geo:51.245421,22.557279
END:VEVENT
BEGIN:VTIMEZONE
TZID:Europe/Warsaw
X-LIC-LOCATION:Europe/Warsaw
BEGIN:DAYLIGHT
DTSTART:20200329T030000
TZOFFSETFROM:+0100
TZOFFSETTO:+0200
TZNAME:CEST
END:DAYLIGHT
END:VTIMEZONE
END:VCALENDAR