BEGIN:VCALENDAR
VERSION:2.0
PRODID:-//wp-events-plugin.com//7.2.3.1//EN
TZID:Europe/Warsaw
X-WR-TIMEZONE:Europe/Warsaw
BEGIN:VEVENT
UID:30625@night4u.pl
DTSTART;TZID=Europe/Warsaw:20191018T200000
DTEND;TZID=Europe/Warsaw:20191019T030000
DTSTAMP:20200331T205349Z
URL:https://night4u.pl/wydarzenia/pidzama-party-enk-zielona-gora/
SUMMARY:Pidżama Party ENK Zielona Góra :-)
DESCRIPTION:Robimy pidżama party w Zielonej Górze!\n18.10 spotkamy się n
 a imprezę w pidżamach i potańczymy z całych sił! W Światowy Dzień M
 enopauzy i Andropauzy pokażemy\, że siła jest kobietą\, a nasza radoś
 ć życia nie zna granic. Będziemy cieszyć się życiem\, będziemy mimo
  wszystko i bo wszystko :-) :-) :-) Co Wy na to? \nPodczas tej imprezy:\n1
 ) wstęp free osoby w pidżamach\n2) muzyka - radiowe hity wszech czasów\
 n3) na sali GREY Partner wydzarzenia firma Galeria Wnętrz WOMAG     zains
 taluje 2 przepiękne łóżka wraz z elegancką pościelą oraz dekoracyjn
 ymi poduchami. Partner zaprasza nas na Prosecco i niecodzienne zdjęcia z 
 tej imprezy :-)\n4) zjemy pyszne pączki od naszego Partnera Pana Piotr Ma
 rciniak z firmy Nasza Pączkarnia Zielona Góra \n5) zjemy wyjątkową piz
 zę od naszego Partnera Fabryka Bistro\n6) różowe drinki ENK wypijemy w 
 promocyjnych cenach dzięki Partnerowi wydarzenia Fabryka\nTO BĘDZIE NIEZ
 WYKŁA NOC! :-) &lt\;3 \nWasza Terra &lt\;3\n\n#eranowychkobiet #eranowych
 kobietzielonagora #eranowychkobietklub #razemmozemywiecej #rewolucjaszczes
 cia #szczesciamoznasienauczyc #joannaprzetakiewiczofficial
ATTACH;FMTTYPE=image/jpeg:https://night4u.pl/wp-content/uploads/2019/10/70
 597_image_72337745_134686314566390_8660604993205698560_n.jpg
CATEGORIES:lubuskie
LOCATION:Fabryka\, ul. Moniuszki 16\, Zielona Góra\, 65-001\, Poland
GEO:51.93424;15.50022
X-APPLE-STRUCTURED-LOCATION;VALUE=URI;X-ADDRESS=ul. Moniuszki 16\, Zielona 
 Góra\, 65-001\, Poland;X-APPLE-RADIUS=100;X-TITLE=Fabryka:geo:51.93424,15
 .50022
END:VEVENT
BEGIN:VTIMEZONE
TZID:Europe/Warsaw
X-LIC-LOCATION:Europe/Warsaw
BEGIN:DAYLIGHT
DTSTART:20190331T030000
TZOFFSETFROM:+0100
TZOFFSETTO:+0200
TZNAME:CEST
END:DAYLIGHT
END:VTIMEZONE
END:VCALENDAR