BEGIN:VCALENDAR
VERSION:2.0
PRODID:-//wp-events-plugin.com//7.2.3.1//EN
TZID:Europe/Warsaw
X-WR-TIMEZONE:Europe/Warsaw
BEGIN:VEVENT
UID:15277@night4u.pl
DTSTART;TZID=Europe/Warsaw:20190515T220000
DTEND;TZID=Europe/Warsaw:20190516T040000
DTSTAMP:20190509T093641Z
URL:https://night4u.pl/wydarzenia/piechota-do-lata-razem-z-upp/
SUMMARY:Piechotą do lata! razem z UPP
DESCRIPTION:Piechotą do lata!!!\n\nLato zbliża się do nas wielkimi kroka
 mi :D Szkoda więc marnować czas i już teraz zachęcamy Was do wspólnej
  zabawy :p\nZbierzmy wspólnie siły i podbijmy parkiet 9 Stóp! 
ATTACH;FMTTYPE=image/jpeg:https://night4u.pl/wp-content/uploads/2019/05/37
 745_image_59704828_2696807367010357_8941090336436912128_n.jpg
CATEGORIES:wielkopolskie
LOCATION:Klub 9stóp\, Piątkowska 92\, Poznan\, 60-649\, Poland
GEO:52.429505;16.917341
X-APPLE-STRUCTURED-LOCATION;VALUE=URI;X-ADDRESS=Piątkowska 92\, Poznan\, 6
 0-649\, Poland;X-APPLE-RADIUS=100;X-TITLE=Klub 9stóp:geo:52.429505,16.917
 341
END:VEVENT
BEGIN:VTIMEZONE
TZID:Europe/Warsaw
X-LIC-LOCATION:Europe/Warsaw
BEGIN:DAYLIGHT
DTSTART:20190331T030000
TZOFFSETFROM:+0100
TZOFFSETTO:+0200
TZNAME:CEST
END:DAYLIGHT
END:VTIMEZONE
END:VCALENDAR