BEGIN:VCALENDAR
VERSION:2.0
PRODID:-//wp-events-plugin.com//7.2.3.1//EN
TZID:Europe/Warsaw
X-WR-TIMEZONE:Europe/Warsaw
BEGIN:VEVENT
UID:26876@night4u.pl
DTSTART;TZID=Europe/Warsaw:20190930T210000
DTEND;TZID=Europe/Warsaw:20191001T050000
DTSTAMP:20190909T224257Z
URL:https://night4u.pl/wydarzenia/pierwsze-otrzesiny-poznania-inauguracja-
 roku-akademickiego/
SUMMARY:Pierwsze Otrzęsiny Poznania | Inauguracja Roku Akademickiego
DESCRIPTION:Krótko zwięźle i na temat -> jeśli STUDIA to ...OTRZĘSINY!
 !! Otrzęsiny = najlepsza impreza\, najfajniejsze przyjaźnie\, a przede w
 szystkim odpowiedni start w nowy rok akademicki -> dlatego rozpocznij go w
  najlepszym stylu razem z POW - Pierwsze Otrzęsiny\n\nPOW - Pierwsze Otrz
 ęsiny to największa coroczna impreza studencka organizowana od 6 lat w N
 AJLEPSZYCH klubach w Polsce! Przyjdź i rozpocznij razem z nami NOWY rok a
 kademicki 2019/2020!\n\n★zagrają:\nMoment.\nNAZZ\n\n★ Klub Czekolada 
 Poznań ★ [ul. Wrocławska 18]\n\n\nSPECIAL PROMO %%% [All Night Long]\n
 PROMO NA BARZE!\nINFO WKRÓTCE!\n\n\n♣ NAJWIĘKSZY STUDENCKI FESTIWAL 20
 19 W POZNANIU ♣\n\n-> Darmowy wstęp z listy dla WSZYSTKICH\, więcej sz
 czegóły poniżej!\n\nLista FB:\n\n21:00-22:00 FREE (darmowe wejście obo
 wiązuje tylko na dany dzień)\n22:00- do końca 10PLN \nPoza listą FB:\n
 15 PLN całą noc \n\nJak zapisać się na listę gości?\nPAMIĘTAJCIE\, 
 że: Aby wejść na imprezę ZA DARMO należy zaprosić m.in 50 znajomych 
 do wydarzenia oraz udostępnić je publicznie na swojej osi czasu. Po wyko
 naniu wszystkich czynności wystarczy dodać post na tym wydarzeniu lub ko
 mentarz pod postem o treści "zrobione ?" Oczywiście nie zapomnicie KLIKN
 ĄĆ "WEZMĘ UDZIAŁ"!\n\nListę Gości Pierwszych Otrzęsin zamykamy o go
 dz. 19.00 w dniu imprezy.\n\n(i) Klub zastrzega sobie prawo do selekcji go
 ści\, a dress code - modnie i wygodnie. Na miejscu czeka na Was moc atrak
 cji\, ta noc będzie niezapomnianym studenckim wydarzeniem!\n\nOficjalny f
 anpage:\nPOW - Pierwsze Otrzęsiny \n\nRazem z nami\, imprezę rozkręcaj
 ą:\n\nPoznań- Wydarzysie.pl\nhttps://www.facebook.com/PoznanWydarzysiew\
 nBeActive\nmuno.pl\ndlaStudenta.pl\nmmpoznan\n\nWejdźmy w najlepszym styl
 u w Nowy Rok Akademicki 2019/2020!\n\nDo zobaczenia!\nEkipa POW!\n♛♛
 ♛
ATTACH;FMTTYPE=image/jpeg:https://night4u.pl/wp-content/uploads/2019/09/62
 654_image_69982442_2409767365811376_4626519413833596928_o.jpg
CATEGORIES:wielkopolskie
LOCATION:Klub Czekolada Poznań\, Poznan\, Poland
GEO:52.40609;16.93264
X-APPLE-STRUCTURED-LOCATION;VALUE=URI;X-ADDRESS=Poznan\, Poland;X-APPLE-RAD
 IUS=100;X-TITLE=Klub Czekolada Poznań:geo:52.40609,16.93264
END:VEVENT
BEGIN:VTIMEZONE
TZID:Europe/Warsaw
X-LIC-LOCATION:Europe/Warsaw
BEGIN:DAYLIGHT
DTSTART:20190331T030000
TZOFFSETFROM:+0100
TZOFFSETTO:+0200
TZNAME:CEST
END:DAYLIGHT
END:VTIMEZONE
END:VCALENDAR