BEGIN:VCALENDAR
VERSION:2.0
PRODID:-//wp-events-plugin.com//7.2.3.1//EN
TZID:Europe/Warsaw
X-WR-TIMEZONE:Europe/Warsaw
BEGIN:VEVENT
UID:39529@night4u.pl
DTSTART;TZID=Europe/Warsaw:20191225T220000
DTEND;TZID=Europe/Warsaw:20191226T050000
DTSTAMP:20191226T003207Z
URL:https://night4u.pl/wydarzenia/pierwszy-dzien-swiat-w-wow-club-sroda-25
 -12-dj-hal/
SUMMARY:Pierwszy Dzień Świąt w WoW Club / Środa 25.12 / DJ HAL
DESCRIPTION:Pierwszy Dzień Świąt x WoW Club\n\nPo rodzinnej kolacji prag
 niemy zaprosić was na trochę świątecznego szaleństwa! Pierwszego dnia
  świąt przygotowaliśmy dla was wiele atrakcji\, takich jak występ saks
 ofonisty George Sax'a czy pokaz taneczny tancerek z Sensual Dance. Dodatko
 wo na drugiej sali zagra DJ Hal\, który rozkręci parkiet najlepszymi św
 iątecznymi hitami! \n\n#PoznajmySięwWoW\n\nMiejsce: WoW Club ul. Lipowa 
 19/21 \n\nData: 25.12.19 \n\nStart: 22:00 \n\nZa konsolą: MatheF &amp\; A
 ngelo &amp\; Cypher Musique\nDrugą Salę rozkręca: # DJ HAL\n\nDresscode
 : elegant/no-sport\n\nRezerwacje: +48 668 449 064\n(ilość lóż ogranicz
 ona) \n\nMiejsce w\, którym odbędzie się impreza to klub WoW przy ul. L
 ipowej 19/21. Lokal przeszedł całkowitą renowacje z zastosowaniem najno
 wszych technologii scenicznych jak i klubowych. Jest to obecnie klub z naj
 większym parkietem w całym mieście. Do zabawy\, nasi goście mają rów
 nież dostępną drugą sale\, która zaskoczy was innym stylem muzycznym 
 i charakterem samej imprezy. \n\nSelekcjoner będzie dbał o to\, aby do k
 lubu wchodziły jedynie osoby oczekujące dobrej zabawy\, agresywnym osobo
 m szukającym zaczepki podziękujemy! Wchodząc do klubu automatycznie zga
 dzasz się na regulamin imprezy (między innymi na zdjęcia robione przed 
 fotografa i upubliczniane ich).\n\nWstęp do lokalu tylko dla osób pełno
 letnich.
ATTACH;FMTTYPE=image/jpeg:https://night4u.pl/wp-content/uploads/2019/12/11
 6833_image_78635560_2405119562948564_7162698753172832256_o.jpg
CATEGORIES:podlaskie
LOCATION:WoW  Club\, Lipowa 19/21\, Białystok\, 15-432\, Poland
GEO:53.1331;23.15317
X-APPLE-STRUCTURED-LOCATION;VALUE=URI;X-ADDRESS=Lipowa 19/21\, Białystok\,
  15-432\, Poland;X-APPLE-RADIUS=100;X-TITLE=WoW  Club:geo:53.1331,23.15317
END:VEVENT
BEGIN:VTIMEZONE
TZID:Europe/Warsaw
X-LIC-LOCATION:Europe/Warsaw
BEGIN:STANDARD
DTSTART:20191027T020000
TZOFFSETFROM:+0200
TZOFFSETTO:+0100
TZNAME:CET
END:STANDARD
END:VTIMEZONE
END:VCALENDAR