BEGIN:VCALENDAR
VERSION:2.0
PRODID:-//wp-events-plugin.com//7.2.3.1//EN
TZID:Europe/Warsaw
X-WR-TIMEZONE:Europe/Warsaw
BEGIN:VEVENT
UID:3073@night4u.pl
DTSTART;TZID=Europe/Warsaw:20190203T210000
DTEND;TZID=Europe/Warsaw:20190204T043000
DTSTAMP:20190108T174339Z
URL:https://night4u.pl/wydarzenia/pijane-ferie/
SUMMARY:PIJANE FERIE
DESCRIPTION:Siema\, szykuje się nasza pierwsza impreza! ?⚡️\nZ tej oka
 zji mamy dla was masę konkursów i wiele atrakcji! ??
ATTACH;FMTTYPE=image/jpeg:https://night4u.pl/wp-content/uploads/2019/01/10
 274_image_49192734_413949129144708_7901531134943559680_n.jpg
CATEGORIES:dolnośląskie
LOCATION:Domówka\, Wroclaw\, Poland
GEO:51.110311;17.032917
X-APPLE-STRUCTURED-LOCATION;VALUE=URI;X-ADDRESS=Wroclaw\, Poland;X-APPLE-RA
 DIUS=100;X-TITLE=Domówka:geo:51.110311,17.032917
END:VEVENT
BEGIN:VTIMEZONE
TZID:Europe/Warsaw
X-LIC-LOCATION:Europe/Warsaw
BEGIN:STANDARD
DTSTART:20181028T020000
TZOFFSETFROM:+0200
TZOFFSETTO:+0100
TZNAME:CET
END:STANDARD
END:VTIMEZONE
END:VCALENDAR