BEGIN:VCALENDAR
VERSION:2.0
PRODID:-//wp-events-plugin.com//7.2.3.1//EN
TZID:Europe/Warsaw
X-WR-TIMEZONE:Europe/Warsaw
BEGIN:VEVENT
UID:11736@night4u.pl
DTSTART;TZID=Europe/Warsaw:20190406T220000
DTEND;TZID=Europe/Warsaw:20190407T060000
DTSTAMP:20190403T193711Z
URL:https://night4u.pl/wydarzenia/pimp-my-drag-adam-joseph-w-love-club-all
 -together/
SUMMARY:Pimp my drag! Adam Joseph w Love Club All Together
DESCRIPTION:6.04.2019 PIMP MY DRAG!… ADAM JOSEPH w LOVE Club!\n\n„Gotuj
 emy” najlepsze imprezy w mieście… A Nowy Jork wdarł się do LOVE\, n
 iczym obłędne\, miłosne tsunami!\n\nJuż 6.04. sobota… odjedziecie w 
 trakcie imprezy PIMP MY DRAG\, której gwiazdą będzie ADAM JOSEPH\, z ab
 solutnie nową odsłoną muzycznych bitów! \n\nUwielbiany przez @rupaulof
 ficial i współpracujący z @peppermint247…  Na 100% pamiętacie słowa
  jego numeru: ?: "Valentina!  :D  Your smile ? is beautiful! :D ”.﻿\n\
 nWszyscy obecnie chcą być miksowani przez Adam! Lady Gaga - „100 Peopl
 e”! Troy Sivan - „Bloom”! Szaleństwo!\n\n\nThe ESSENCE OF HOUSE MUS
 IC… Tylko i wyłącznie w LOVE - Wpadajcie! :-D\n\nWejście: 20 złotów
 ek!
ATTACH;FMTTYPE=image/jpeg:https://night4u.pl/wp-content/uploads/2019/04/30
 161_image_53843150_1256557397831494_4913439953809047552_o.jpg
CATEGORIES:zachodniopomorskie
LOCATION:Love Club All together\, Tkacka 8\, Szczecin\, 70-556\, Poland
GEO:53.42745;14.55305
X-APPLE-STRUCTURED-LOCATION;VALUE=URI;X-ADDRESS=Tkacka 8\, Szczecin\, 70-55
 6\, Poland;X-APPLE-RADIUS=100;X-TITLE=Love Club All together:geo:53.42745,
 14.55305
END:VEVENT
BEGIN:VTIMEZONE
TZID:Europe/Warsaw
X-LIC-LOCATION:Europe/Warsaw
BEGIN:DAYLIGHT
DTSTART:20190331T030000
TZOFFSETFROM:+0100
TZOFFSETTO:+0200
TZNAME:CEST
END:DAYLIGHT
END:VTIMEZONE
END:VCALENDAR