BEGIN:VCALENDAR
VERSION:2.0
PRODID:-//wp-events-plugin.com//7.2.3.1//EN
TZID:Europe/Warsaw
X-WR-TIMEZONE:Europe/Warsaw
BEGIN:VEVENT
UID:38081@night4u.pl
DTSTART;TZID=Europe/Warsaw:20191214T210000
DTEND;TZID=Europe/Warsaw:20191215T060000
DTSTAMP:20191208T000903Z
URL:https://night4u.pl/wydarzenia/pin-up-party-14-12-do-2200-wejscie-free/
SUMMARY:Pin Up Party // 14.12 // Do 22:00 wejście free
DESCRIPTION:Pin-Up Party to piękne\, uśmiechniętę dziewczyny budzące p
 ożądanie wśród mężczyzn. Ubrane w rozkloszowane sukienki\, krótkie 
 szorty czy skąpe stroje kąpielowe!\nUosobienie kobiecego sexapilu!\nCudo
 wne oczy\, długie czarne rzęsy\, czerwone usta…..Taaaaak to one!Dziewc
 zyny przenieście się na tę jedną noc do lat 40 i 50\, ukażcie swoje w
 dzięki! ♥ \n\nPoczujcie się jak Marylin Monroe i zaśpiewajcie nam Hap
 py Birthday. Już my zadbamy\, aby wiatr podwiał Wasze sukienki :D \n\nDj
 ka:\nResidents \n------------------------------------------------\n⭐️ 
 SOBOTA ⭐️\n\n➡️Start 21:00\n➡️Do 22:00 - wejście free\n➡️
 22:00-23:00 - 10zł\n➡️Po 23:00 - 15zł\n\nBilet wstępu obowiązuje d
 o lokali:\nHelium Club\nRzut Beretem\nEl Cubano\n\nseats &amp\; tables/ re
 zerwacje stolików\n☎️: 725700205 (wt-sob. 17:00-20:00)\nWejście 18+ 
 / DOOR SELECTION
ATTACH;FMTTYPE=image/jpeg:https://night4u.pl/wp-content/uploads/2019/12/10
 8820_image_78058586_2492420184366482_2744265509783470080_o.jpg
CATEGORIES:lubelskie
LOCATION:Helium Club\, Hempla 5\, Lublin\, 20-008\, Poland
GEO:51.245425;22.557276
X-APPLE-STRUCTURED-LOCATION;VALUE=URI;X-ADDRESS=Hempla 5\, Lublin\, 20-008\
 , Poland;X-APPLE-RADIUS=100;X-TITLE=Helium Club:geo:51.245425,22.557276
END:VEVENT
BEGIN:VTIMEZONE
TZID:Europe/Warsaw
X-LIC-LOCATION:Europe/Warsaw
BEGIN:STANDARD
DTSTART:20191027T020000
TZOFFSETFROM:+0200
TZOFFSETTO:+0100
TZNAME:CET
END:STANDARD
END:VTIMEZONE
END:VCALENDAR