BEGIN:VCALENDAR
VERSION:2.0
PRODID:-//wp-events-plugin.com//7.2.3.1//EN
TZID:Europe/Warsaw
X-WR-TIMEZONE:Europe/Warsaw
BEGIN:VEVENT
UID:31290@night4u.pl
DTSTART;TZID=Europe/Warsaw:20191011T210000
DTEND;TZID=Europe/Warsaw:20191012T060000
DTSTAMP:20191009T200823Z
URL:https://night4u.pl/wydarzenia/pin-up-party-2/
SUMMARY:Pin-Up Party!
DESCRIPTION:Koszule wiązane w pasie\, grochy\, kratka\, chustki na głowac
 h - wszystko mile widziane😍. Dla przebranych Pań OPEN BAR & WSTĘP #FR
 EE do godz. 23:00💋 oraz ATRAKCYJNE NAGRODY - Do wygrania: Podwójne zap
 roszenie VIP✅ Voucher o wartości 100 PLN do X-Demon VIP Lounge & Restau
 rant✅ Butelka wódki✅! Dodatkowo rozdamy mnóstwo markowych szminek
 💄😉.\nRezerwacja lóż www.wroclaw.xdemon.pl\nSelekcja +18
ATTACH;FMTTYPE=image/jpeg:https://night4u.pl/wp-content/uploads/2019/10/72
 729_image_71907866_1145408812310463_5034018154167140352_o.jpg
CATEGORIES:dolnośląskie
LOCATION:X-Demon - Wrocław\, \, 
X-APPLE-STRUCTURED-LOCATION;VALUE=URI;X-ADDRESS=\, ;X-APPLE-RADIUS=100;X-TI
 TLE=X-Demon - Wrocław:geo:0,0
END:VEVENT
BEGIN:VTIMEZONE
TZID:Europe/Warsaw
X-LIC-LOCATION:Europe/Warsaw
BEGIN:DAYLIGHT
DTSTART:20190331T030000
TZOFFSETFROM:+0100
TZOFFSETTO:+0200
TZNAME:CEST
END:DAYLIGHT
END:VTIMEZONE
END:VCALENDAR