BEGIN:VCALENDAR
VERSION:2.0
PRODID:-//wp-events-plugin.com//7.2.3.1//EN
TZID:Europe/Warsaw
X-WR-TIMEZONE:Europe/Warsaw
BEGIN:VEVENT
UID:4987@night4u.pl
DTSTART;TZID=Europe/Warsaw:20190125T210000
DTEND;TZID=Europe/Warsaw:20190126T050000
DTSTAMP:20190124T163120Z
URL:https://night4u.pl/wydarzenia/pink-lipstick-party/
SUMMARY:Pink Lipstick party!
DESCRIPTION:?? PINK LIPSTICK PARTY! ??\n\nNajgorętsza i najbardziej #róż
 owa impreza we Wrocławiu! ❤️?\n\nA dlaczego różowa? ?\n\n?Ponieważ
  PINK LIPSTICK PARTY to impreza podsumowująca Europejski Tydzień Profila
 ktyki Raka Szyjki Macicy! \n?Tak!? Bawimy się i pomagamy! ❤️\n\nKażd
 a kobieta\, która:\n1️⃣ zrobi selfie z różowymi ustami\,\n2️⃣ o
 znaczy One Love Wrocław\,\n3️⃣ wrzuci zdjęcie na FB lub Insta \n\nwc
 hodzi za free i otrzymuje pysznego różowego drinka! ??\n\nZatem już w n
 ajbliższy piątek\, oprócz najlepszych doznań dźwiękowych\, [wraz z w
 ieloma cudownymi kobietami\, o ustach muśniętymi #różowymi szminkami]\
 , damy Wam mnóstwo pozytywnych emocji\, kilka wskazówek zdrowotnych oraz
  szalone promocje na barze i #różowe kartony pełne #różowych prezent
 ów! ?\n\nJestem One Love Wrocław ?? i kocham pomagać! ❤️?
ATTACH;FMTTYPE=image/jpeg:https://night4u.pl/wp-content/uploads/2019/01/15
 812_image_50917058_533316487182904_4435102428076965888_n.jpg
CATEGORIES:dolnośląskie
LOCATION:One Love Wrocław\, Ofiar Oświęcimskich 36\, Wroclaw\, 50-059\, 
 Poland
GEO:51.108;17.03431
X-APPLE-STRUCTURED-LOCATION;VALUE=URI;X-ADDRESS=Ofiar Oświęcimskich 36\, 
 Wroclaw\, 50-059\, Poland;X-APPLE-RADIUS=100;X-TITLE=One Love Wrocław:geo
 :51.108,17.03431
END:VEVENT
BEGIN:VTIMEZONE
TZID:Europe/Warsaw
X-LIC-LOCATION:Europe/Warsaw
BEGIN:STANDARD
DTSTART:20181028T020000
TZOFFSETFROM:+0200
TZOFFSETTO:+0100
TZNAME:CET
END:STANDARD
END:VTIMEZONE
END:VCALENDAR