BEGIN:VCALENDAR
VERSION:2.0
PRODID:-//wp-events-plugin.com//7.2.3.1//EN
TZID:Europe/Warsaw
X-WR-TIMEZONE:Europe/Warsaw
BEGIN:VEVENT
UID:41447@night4u.pl
DTSTART;TZID=Europe/Warsaw:20200110T210000
DTEND;TZID=Europe/Warsaw:20200110T210000
DTSTAMP:20200109T231335Z
URL:https://night4u.pl/wydarzenia/pink-party/
SUMMARY:Pink Party!
DESCRIPTION:Różowo Nam w klubie Zamkowa. Jeśli macie ochotę się odstre
 sować i położyć kres wszystkim troskom patrzcie na świat przez RÓŻO
 WE OKULARY! Dla wszystkich odważnych śmieszne ramki do odebrania przy we
 jściu. Dla okularników przewidziane zniżki u naszych barmanów!\n\nZagr
 a dla Was Dj Węzig i Dj Wilku &lt\;3\nZapraszamy od 21!
ATTACH;FMTTYPE=image/jpeg:https://night4u.pl/wp-content/uploads/2020/01/12
 9978_image_80057454_3175256162489116_749839725820379136_n.jpg
CATEGORIES:świętokrzyskie
LOCATION:Klub Zamkowa\, Zamkowa 2\, Kielce\, 25-009\, Poland
GEO:50.868771;20.625644
X-APPLE-STRUCTURED-LOCATION;VALUE=URI;X-ADDRESS=Zamkowa 2\, Kielce\, 25-009
 \, Poland;X-APPLE-RADIUS=100;X-TITLE=Klub Zamkowa:geo:50.868771,20.625644
END:VEVENT
BEGIN:VTIMEZONE
TZID:Europe/Warsaw
X-LIC-LOCATION:Europe/Warsaw
BEGIN:STANDARD
DTSTART:20191027T020000
TZOFFSETFROM:+0200
TZOFFSETTO:+0100
TZNAME:CET
END:STANDARD
END:VTIMEZONE
END:VCALENDAR