BEGIN:VCALENDAR
VERSION:2.0
PRODID:-//wp-events-plugin.com//7.2.3.1//EN
TZID:Europe/Warsaw
X-WR-TIMEZONE:Europe/Warsaw
BEGIN:VEVENT
UID:21062@night4u.pl
DTSTART;TZID=Europe/Warsaw:20190709T173000
DTEND;TZID=Europe/Warsaw:20190709T183000
DTSTAMP:20190704T024918Z
URL:https://night4u.pl/wydarzenia/piotrus-3/
SUMMARY:Piotruś
DESCRIPTION:Nana spojrzała przez okno\, ale pośród ciemnej nocy zauważy
 ła jedynie coś\, co wzięła za spadającą gwiazdę. Zauważyła też\,
  że to\, co trzyma w pysku\, to cień chłopca. Uważnie go zbadała i ok
 azało się\, że jest w zupełnie przeciętnym gatunku\, chociaż świeci
 ł jak czarna emalia.\nPIOTRUŚ \nIlustracje proponują Państwu seans w t
 eatrze formy\, przelot po Nibylandii. \nW planach liczne atrakcje: odpruwa
 nie cienia\, liczenie części ciała\, kradzież dzieci i kostek cukru\, 
 zabawa w gorące krzesła z Piotrusiem i Wandzią. Wszystko pod nadzorem N
 any\, psiej opiekunki – i za pośrednictwem ekranu.\n\n\nSpektakl teatru
  formy „Piotruś” to pierwszy projekt Ilustracji realizowany we wspó
 łpracy z Klubem Pod Jaszczurami. Serdecznie zapraszamy widzów dorosłych
  – daty najbliższych spektakli podane są poniżej. \nNie biletujemy na
 szego wydarzenia – obowiązuje zasada pay what you want. Prosimy o skła
 danie rezerwacji pod adresem: teatr.ilustracje@gmail.com.\n\nPIOTRUŚ\nspe
 ktakl teatru formy przygotowany przez kolektyw Ilustracje w osobach: Luna 
 Nikola Sawka\, Jakub Pawlak\, Marta Andruchowycz\, Agnieszka Leśniak\, Ka
 rolina Ścigała \n\nobsługa techniczna: Joanna Śliwa\n\nw oparciu o: 
 „Przygody Piotrusia Pana” i „Piotruś Pan w Ogrodach Kensingtońskic
 h” J.M. Barriego (tłum. M. Słomczyński)\, „Źle wykastrowana” E. 
 Santos (tłum. J. Zieliński)\, „Orfeusz” A. Świrszczyńskiej\n\n\ngr
 afika/plakat: Alicja Łyszkowicz \n\npremiera: 7 lipca 2019 roku\n\nIlustr
 acje bardzo dziękują grupie cichon/loboda za współpracę i użyczenie 
 utworów muzycznych z albumu „nie my film”.
ATTACH;FMTTYPE=image/jpeg:https://night4u.pl/wp-content/uploads/2019/07/50
 305_image_65926173_2522988707722524_3388577983630409728_o.jpg
CATEGORIES:małopolskie
LOCATION:Klub Pod Jaszczurami\, Rynek Główny 8\, Kraków\, 31-042\, Polan
 d
GEO:50.06081;19.93818
X-APPLE-STRUCTURED-LOCATION;VALUE=URI;X-ADDRESS=Rynek Główny 8\, Kraków\
 , 31-042\, Poland;X-APPLE-RADIUS=100;X-TITLE=Klub Pod Jaszczurami:geo:50.0
 6081,19.93818
END:VEVENT
BEGIN:VTIMEZONE
TZID:Europe/Warsaw
X-LIC-LOCATION:Europe/Warsaw
BEGIN:DAYLIGHT
DTSTART:20190331T030000
TZOFFSETFROM:+0100
TZOFFSETTO:+0200
TZNAME:CEST
END:DAYLIGHT
END:VTIMEZONE
END:VCALENDAR