BEGIN:VCALENDAR
VERSION:2.0
PRODID:-//wp-events-plugin.com//7.2.3.1//EN
TZID:Europe/Warsaw
X-WR-TIMEZONE:Europe/Warsaw
BEGIN:VEVENT
UID:48375@night4u.pl
DTSTART;TZID=Europe/Warsaw:20200306T235900
DTEND;TZID=Europe/Warsaw:20200307T120000
DTSTAMP:20200307T104640Z
URL:https://night4u.pl/wydarzenia/piur-all-night-long/
SUMMARY:PIUR All night long
DESCRIPTION:[ENGLISH BELOW]\n\nPrzygotuj się na wielki koncert PIUR\, czys
 ty ekstrakt najlepszej muzyki elektronicznej\, esencję przeszywających i
  tajemniczych dźwięków. Stań przed sceną i uruchom swój szósty zmys
 ł. Będzie  #surowo\, #mrocznie i #progresywnie. Jednym słowem intensywn
 ie! \n\n👉12 GODZIN\n👉DWIE SCENY\n👉JEDNA MIŁOŚĆ\n\noraz \n\n
 👉SPECJALNIE PRZYGOTOWANA SCENOGRAFIA\n👉WIRTUOZERSKI POKAZ ŚWIATŁA\
 n\ni wiele innych ciekawostek\, które przygotowaliśmy specjalnie na tę 
 okazję. To będzie prawdziwa podróż w nieznane. \n\nSpróbujesz?😉\n\
 n▬▬▬▬▬▬▬▬▬▬▬▬▬▬▬▬▬▬▬▬▬▬▬▬
 ▬▬▬▬▬▬\n\nWARM UP:\nGarsija\n\nRED STAGE:\nGruuv On\nMIHVU\n\n
 ▬▬▬▬▬▬▬▬▬▬▬▬▬▬▬▬▬▬▬▬▬▬▬▬
 ▬▬▬▬▬▬\n\nLIGHT DESIGNER: \n\n„Lights in Shadow” powered b
 y Alicja Reszpondek. \n\nBez dwóch zdań jedna z najlepszych kobiet\, rob
 iących wizualizację świetlne\, które przenoszą w zupełnie inny wymia
 r. W tym dniu ma #urodziny\, więc z tej okazji wszystkiego najlepszego z 
 okazji urodzin! 🎉\n\n▬▬▬▬▬▬▬▬▬▬▬▬▬▬▬▬
 ▬▬▬▬▬▬▬▬▬▬▬▬▬▬\n\n☞  DETALE: \n\nBilety: 30z
 ł\nDarmowa lista gości: piotrek@luzztro.com\n\nStart: 23:59\n\nMiejsce: 
 Luzztro \nAleje Jerozolimskie 6\nWarszawa\n\nWejście od 18 lat\n\n▬▬
 ▬▬▬▬▬▬▬▬▬▬▬▬▬▬▬▬▬▬▬▬▬▬▬▬
 ▬▬▬▬\n\nhttps://www.facebook.com/piurlive\nhttps://soundcloud.com/
 luzztrorecords/piur-b2b-adam-obrebski\nhttps://www.youtube.com/watch?v=f8h
 e4blUeRQ\nhttps://vod.tvp.pl/video/dobra-nocka\,piur\,39392199\n\n\n\n\n
 🇬🇧 ENGLISH\n\nGet ready for the great PIUR concert\, a pure extract 
 of the best electronic music\, the essence of piercing and mysterious soun
 ds. Stand in front of the stage and activate your sixth sense. It will be 
 #raw\, #dark and #progressive. In a word\, intensively!\n\n👉12 HOURS\n
 👉TWO SCENES\n👉ONE LOVE\n\nand\n\n👉SPECIFICALLY PREPARED SCENOGRAP
 HY\n👉VIRTUOSER LIGHT SHOW\n\nand many other curiosities that we have pr
 epared especially for this occasion. It will be a real journey into the un
 known. \n\nWanna try?😉\n\n▬▬▬▬▬▬▬▬▬▬▬▬▬▬▬
 ▬▬▬▬▬▬▬▬▬▬▬▬▬▬▬\n\nWARM UP:\nGarsija\n\nRED 
 STAGE:\nGruuv On\n\n▬▬▬▬▬▬▬▬▬▬▬▬▬▬▬▬▬▬
 ▬▬▬▬▬▬▬▬▬▬▬▬\n\nLIGHT DESIGNER:\n\n"Lights in Shad
 ow" powered by Alicja Reszpondek\n\nWithout a doubt\, one of the best wome
 n doing light visualizations that they take to a completely different dime
 nsion. On this day he has #birthday\, so on this occasion happy birthday!
 🎉\n\n▬▬▬▬▬▬▬▬▬▬▬▬▬▬▬▬▬▬▬▬▬▬
 ▬▬▬▬▬▬▬▬\n\n☞ DETAILS:\n\nTickets: PLN 30\nFree guest li
 st: piotrek@luzztro.com\n\nStart: 23:59\n\nPlace: Luzztro\nAleje Jerozolim
 skie 6\nWarsaw\n\nEntry from 18 years\n\n▬▬▬▬▬▬▬▬▬▬▬
 ▬▬▬▬▬▬▬▬▬▬▬▬▬▬▬▬▬▬▬\n\nhttps://www.f
 acebook.com/piurlive\nhttps://soundcloud.com/luzztrorecords/piur-b2b-adam-
 obrebski\nhttps://www.youtube.com/watch?v=f8he4blUeRQ\nhttps://vod.tvp.pl/
 video/dobra-nocka\,piur\,39392199
ATTACH;FMTTYPE=image/jpeg:https://night4u.pl/wp-content/uploads/2020/02/16
 5075_image_86490745_3578783562194264_1569811173753225216_o.jpg
CATEGORIES:mazowieckie
LOCATION:Luzztro\, Aleje Jerozolimskie 6\, Warsaw\, 00-374\, Poland
GEO:52.232779;21.023655
X-APPLE-STRUCTURED-LOCATION;VALUE=URI;X-ADDRESS=Aleje Jerozolimskie 6\, War
 saw\, 00-374\, Poland;X-APPLE-RADIUS=100;X-TITLE=Luzztro:geo:52.232779,21.
 023655
END:VEVENT
BEGIN:VTIMEZONE
TZID:Europe/Warsaw
X-LIC-LOCATION:Europe/Warsaw
BEGIN:STANDARD
DTSTART:20191027T020000
TZOFFSETFROM:+0200
TZOFFSETTO:+0100
TZNAME:CET
END:STANDARD
END:VTIMEZONE
END:VCALENDAR