BEGIN:VCALENDAR
VERSION:2.0
PRODID:-//wp-events-plugin.com//7.2.3.1//EN
TZID:Europe/Warsaw
X-WR-TIMEZONE:Europe/Warsaw
BEGIN:VEVENT
UID:42973@night4u.pl
DTSTART;TZID=Europe/Warsaw:20200206T190000
DTEND;TZID=Europe/Warsaw:20200206T233000
DTSTAMP:20200331T154831Z
URL:https://night4u.pl/wydarzenia/platel-sinuoida-poznan-06-02-2020-amore-
 del-tropico/
SUMMARY:PlateL / Sinu$oida / Poznań / 06.02.2020 / Amore Del Tropico
DESCRIPTION:Koncert: PLATEL\nAmore del Tropico\nul. Ratajczaka 26/2\, 61-81
 5 Poznań\nData: 06.02.2020 (czwartek) godz. 21:00 (bramka od 19:00)\nBile
 ty: 10 PLN w dniu wydarzenia\n\nWarm Up\, before\, after party:\nDJ WJS\n\
 nDODATKOWO NA SCENIE:\n\n- MADA F\n- SCRXW\n(VAN DAL\, Bumi\, Joint’u\, 
 Trotyl\, Sasan)\n- YEEDRAZ\n\n- - - - info - - - - -\n\nPlateL - "SINU$OID
 A"\n\nJest to pierwszy legalny album artysty\, który od 2003 roku związa
 ny jest z wielkopolską sceną hip-hopową. PlateL swoim nowym materiałem
  zwraca uwagę na egzystencjonalne rozterki ludzkiego umysłu\, takie jak 
 dylemat podejmowania słusznych decyzji\, sens istnienia czy chwiejność 
 losu porównaną do tytułowej sinusoidy. Na albumie nie brakuje także nu
 merów przełamujących klimat rozkminy i nostalgii\, serwujących rytmy i
 mprezowe oraz bragga. Całość materiału uszyta jest nicią uplecioną z
  nowoczesnych bitów\, pełnych elektronicznych brzmień\, mocnego basu i 
 granych melodii.\n\nZa produkcję muzyczną albumu oraz mix odpowiada: Dol
 un/Killyrgod\nMastering: Julas Beats\nNa albumie gościnnie na gramofonach
 : DJ Soina\, DJ Blacha\n\nAlbum dostępny na: \nSpotify\, Tidal\, inne cyf
 ry\nhttps://independentdigital.lnk.to/SinuSoidaPlatel?fbclid=IwAR2SbUI5Oth
 hleKhv-F1QbuTVWY19tXS5xMO_O7YYSdk1mwmMVF4qdTXGZY\n\nYouTube\nhttps://www.y
 outube.com/watch?v=Jmpp6xU4uaU&amp\;list=PLfNOTzSMlDlpTVfj3Ysn7_xptOBFlzQ3
 t\n\noraz EMPiK.com\nhttps://www.empik.com/sinu-oida\,p1227992233\,ebooki-
 i-mp3-p\n\nZapraszamy !!
ATTACH;FMTTYPE=image/jpeg:https://night4u.pl/wp-content/uploads/2020/01/13
 6933_image_82228293_2676245459138608_2170292999538343936_o.jpg
CATEGORIES:wielkopolskie
END:VEVENT
BEGIN:VTIMEZONE
TZID:Europe/Warsaw
X-LIC-LOCATION:Europe/Warsaw
BEGIN:STANDARD
DTSTART:20191027T020000
TZOFFSETFROM:+0200
TZOFFSETTO:+0100
TZNAME:CET
END:STANDARD
END:VTIMEZONE
END:VCALENDAR