BEGIN:VCALENDAR
VERSION:2.0
PRODID:-//wp-events-plugin.com//7.2.3.1//EN
TZID:Europe/Warsaw
X-WR-TIMEZONE:Europe/Warsaw
BEGIN:VEVENT
UID:18333@night4u.pl
DTSTART;TZID=Europe/Warsaw:20190607T200000
DTEND;TZID=Europe/Warsaw:20190608T050000
DTSTAMP:20190605T205401Z
URL:https://night4u.pl/wydarzenia/plener-afterparty-speed-car-motor-lublin
 -betard-sparta-wroclaw/
SUMMARY:PLENER Afterparty: Speed Car Motor Lublin-Betard Sparta Wrocław
DESCRIPTION:PO MOTORZE ZOSTAŃ NA DWORZE! ?\nOficjalne AFTERPARTY po meczu 
 Speed Car Motor Lublin - Betard Sparta Wrocław. My będziemy\, a Ty?\n\nB
 ilet Speed Car Motor Lublin - wjazd free\n+18\n(Na bramce obowiązuje sele
 kcja)
ATTACH;FMTTYPE=image/jpeg:https://night4u.pl/wp-content/uploads/2019/06/44
 293_image_61967666_2386314914980299_4712212876201295872_o.jpg
CATEGORIES:lubelskie
LOCATION:PLENER\, Aleja Józefa Piłsudskiego\, Lublin\, 20-406\, Poland
GEO:51.23623;22.565086
X-APPLE-STRUCTURED-LOCATION;VALUE=URI;X-ADDRESS=Aleja Józefa Piłsudskiego
 \, Lublin\, 20-406\, Poland;X-APPLE-RADIUS=100;X-TITLE=PLENER:geo:51.23623
 ,22.565086
END:VEVENT
BEGIN:VTIMEZONE
TZID:Europe/Warsaw
X-LIC-LOCATION:Europe/Warsaw
BEGIN:DAYLIGHT
DTSTART:20190331T030000
TZOFFSETFROM:+0100
TZOFFSETTO:+0200
TZNAME:CEST
END:DAYLIGHT
END:VTIMEZONE
END:VCALENDAR