BEGIN:VCALENDAR
VERSION:2.0
PRODID:-//wp-events-plugin.com//7.2.3.1//EN
TZID:Europe/Warsaw
X-WR-TIMEZONE:Europe/Warsaw
BEGIN:VEVENT
UID:49202@night4u.pl
DTSTART;TZID=Europe/Warsaw:20200305T210000
DTEND;TZID=Europe/Warsaw:20200306T010000
DTSTAMP:20200305T022908Z
URL:https://night4u.pl/wydarzenia/plug-in-with-spiritual-tama-bar/
SUMMARY:Plug.in with Spiritual // TAMA BAR
DESCRIPTION:Najbliższy czwartek pod szyldem afro i deep house! \nTym razem
  przed naszymi kamerami wystąpią OUI / Stefan Łyczewski b2b Tommy Gusta
 v w swoim projekcie pod wdzięczną nazwą S P I R I T U ∆ L &lt\;3 \nNi
 e zabraknie również dawki muzyki od naszego rezydenta Keytov. \n\nStart 
 21.oo \nWstęp jak zawsze FREE \nStream set start 22.30
ATTACH;FMTTYPE=image/jpeg:https://night4u.pl/wp-content/uploads/2020/03/17
 0385_image_89315277_2847428681970457_8028744282384891904_o.jpg
CATEGORIES:wielkopolskie
LOCATION:Tama Bar\, Niezłomnych 2\, Poznan\, 61-582\, Poland
GEO:52.402188;16.921897
X-APPLE-STRUCTURED-LOCATION;VALUE=URI;X-ADDRESS=Niezłomnych 2\, Poznan\, 6
 1-582\, Poland;X-APPLE-RADIUS=100;X-TITLE=Tama Bar:geo:52.402188,16.921897
END:VEVENT
BEGIN:VTIMEZONE
TZID:Europe/Warsaw
X-LIC-LOCATION:Europe/Warsaw
BEGIN:STANDARD
DTSTART:20191027T020000
TZOFFSETFROM:+0200
TZOFFSETTO:+0100
TZNAME:CET
END:STANDARD
END:VTIMEZONE
END:VCALENDAR