BEGIN:VCALENDAR
VERSION:2.0
PRODID:-//wp-events-plugin.com//7.2.3.1//EN
TZID:Europe/Warsaw
X-WR-TIMEZONE:Europe/Warsaw
BEGIN:VEVENT
UID:21228@night4u.pl
DTSTART;TZID=Europe/Warsaw:20190705T220000
DTEND;TZID=Europe/Warsaw:20190706T050000
DTSTAMP:20190704T191949Z
URL:https://night4u.pl/wydarzenia/po-co-sie-pchac-na-openera-piatek-cooltu
 ra-chmielna-101/
SUMMARY:Po co się pchać na Open'era?! / Piątek / Cooltura Chmielna 101
DESCRIPTION:Po co się pchać na Open'era?! W piątek na Chmielnej 101 gra 
 Skipek\, rasowy muzyczny wyjadacz. Towarzyszyć mu będzie Sasin na saksof
 onie. Szykuje się live act na najwyższym poziomie. Trochę Cooltury!\n\n
 Imprezowy sezon dopiero przed nami. Najpierw balet\, potem after. Wóda do
  ryja\, tańce na barze\, nowe znajomości i uśmiech na twarzy. Korzystaj
 my z życia\, młodsi nie będziemy! ?\n\n--------------------------------
 ------------------\nSpragniony wrażeń? → http://bit.ly/CoolturalnaKart
 aKoktajlowa\n\n・Start 22:00.\n・Wstęp tylko dla osób pełnoletnich.\n
 ・Selekcja na wejściu - organizator może odmówić wejścia do klubu.
ATTACH;FMTTYPE=image/jpeg:https://night4u.pl/wp-content/uploads/2019/07/50
 626_image_65846899_1309939982517648_4302181977768853504_o.jpg
CATEGORIES:pomorskie
LOCATION:Cooltura Chmielna 101\, Chmielna 101\, Gdansk\, 80-748\, Poland
GEO:54.34722;18.65729
X-APPLE-STRUCTURED-LOCATION;VALUE=URI;X-ADDRESS=Chmielna 101\, Gdansk\, 80-
 748\, Poland;X-APPLE-RADIUS=100;X-TITLE=Cooltura Chmielna 101:geo:54.34722
 ,18.65729
END:VEVENT
BEGIN:VTIMEZONE
TZID:Europe/Warsaw
X-LIC-LOCATION:Europe/Warsaw
BEGIN:DAYLIGHT
DTSTART:20190331T030000
TZOFFSETFROM:+0100
TZOFFSETTO:+0200
TZNAME:CEST
END:DAYLIGHT
END:VTIMEZONE
END:VCALENDAR