BEGIN:VCALENDAR
VERSION:2.0
PRODID:-//wp-events-plugin.com//7.2.3.1//EN
TZID:Europe/Warsaw
X-WR-TIMEZONE:Europe/Warsaw
BEGIN:VEVENT
UID:1438@night4u.pl
DTSTART;TZID=Europe/Warsaw:20190119T210000
DTEND;TZID=Europe/Warsaw:20190120T020000
DTSTAMP:20181227T232337Z
URL:https://night4u.pl/wydarzenia/po-raz-pierwszy-twoj-drugi-raz/
SUMMARY:Po raz pierwszy! Twój Drugi RAZ!
DESCRIPTION:?Kiedy każdy krok na mieście przypomina Ci\, że zbliża się
  sobotni wieczór ??\, a Ty nadal nie wiesz jak to będzie. Klikasz ?\, pr
 zeglądasz ?\, pytasz ?\, szukasz ?\, nerwowo zaczepiasz ?‍♀️?‍♂
 ️ znajomych i męczysz - wiedz\, że jest na mapie takie miejsce\, któr
 e ugości Cię najlepiej. ????\n\nMorze ? zimnego trunku rozlewa się stru
 mieniami\, pełne talerze ? niosą się po sali\, a gdzieś nieopodal czu
 ć ten słodki zapach ? beztroski. To tutaj tego wieczoru zaopiekują się
  Tobą dobrzy ludzie ?‍✈️?‍✈️?‍✈️ i wprowadzą w stan\, 
 który Po raz Pierwszy❗️ uderzy do Twojej duszy ❗️ \n\nWedług mie
 jskiej legendy\, być może będzie to nawet Twój Drugi Raz❗️✌️\n
 \nWstąpisz ?❓\nWięcej szczegółów wkrótce ??
ATTACH;FMTTYPE=image/jpeg:https://night4u.pl/wp-content/uploads/2018/12/67
 26_image_48398044_1991088517636141_974481668045799424_o.jpg
CATEGORIES:warmińsko-mazurskie
LOCATION:Żądło Pub\, Ełk\, Pułaskiego 23/1\, Ełk\, 19-300\, Poland
GEO:53.821625;22.345092
X-APPLE-STRUCTURED-LOCATION;VALUE=URI;X-ADDRESS=Pułaskiego 23/1\, Ełk\, 1
 9-300\, Poland;X-APPLE-RADIUS=100;X-TITLE=Żądło Pub\, Ełk:geo:53.82162
 5,22.345092
END:VEVENT
BEGIN:VTIMEZONE
TZID:Europe/Warsaw
X-LIC-LOCATION:Europe/Warsaw
BEGIN:STANDARD
DTSTART:20181028T020000
TZOFFSETFROM:+0200
TZOFFSETTO:+0100
TZNAME:CET
END:STANDARD
END:VTIMEZONE
END:VCALENDAR