BEGIN:VCALENDAR
VERSION:2.0
PRODID:-//wp-events-plugin.com//7.2.3.1//EN
TZID:Europe/Warsaw
X-WR-TIMEZONE:Europe/Warsaw
BEGIN:VEVENT
UID:19705@night4u.pl
DTSTART;TZID=Europe/Warsaw:20190628T220000
DTEND;TZID=Europe/Warsaw:20190629T020000
DTSTAMP:20190619T115212Z
URL:https://night4u.pl/wydarzenia/po-sesji-lecimy-na-hawaje-szal-baj-najt-
 28-06-domowka/
SUMMARY:Po sesji lecimy na Hawaje! // Szał Baj Najt // 28.06 // Domówka
DESCRIPTION:KONIEC SESJI? NO TO START!\n\nImprezowicze szykujcie się na pr
 awdziwy odlot ✈️ Czeka na was ostatni w tym roku akademickim Szał Baj
  Najt - najlepsze imprezy w mieście!\n\nPolecimy prosto w hawajskie klima
 ty\, gdzie będziecie mogli bawić się do samego rana w rytmach czysto eg
 zotycznych! \n\n? Odlot: 22:00 - 28 czerwca\n? Terminal: Domówka\n\nTAX: 
 \n✔️ UE - 2 PLN\n✔️ Studenci - 5 PLN \n✔️ Reszta świata - 15 
 PLN \n\nBierzcie ekipę\, kwieciste koszule (lub sukienki!)\, kapelusze i 
 wbijajcie na Szałową zabawę ??
ATTACH;FMTTYPE=image/jpeg:https://night4u.pl/wp-content/uploads/2019/06/47
 463_image_64736249_10162392454960355_909975575702011904_o.jpg
CATEGORIES:dolnośląskie
LOCATION:Domówka\, Wroclaw\, Poland
GEO:51.110311;17.032917
X-APPLE-STRUCTURED-LOCATION;VALUE=URI;X-ADDRESS=Wroclaw\, Poland;X-APPLE-RA
 DIUS=100;X-TITLE=Domówka:geo:51.110311,17.032917
END:VEVENT
BEGIN:VTIMEZONE
TZID:Europe/Warsaw
X-LIC-LOCATION:Europe/Warsaw
BEGIN:DAYLIGHT
DTSTART:20190331T030000
TZOFFSETFROM:+0100
TZOFFSETTO:+0200
TZNAME:CEST
END:DAYLIGHT
END:VTIMEZONE
END:VCALENDAR