BEGIN:VCALENDAR
VERSION:2.0
PRODID:-//wp-events-plugin.com//7.2.3.1//EN
TZID:Europe/Warsaw
X-WR-TIMEZONE:Europe/Warsaw
BEGIN:VEVENT
UID:24110@night4u.pl
DTSTART;TZID=Europe/Warsaw:20190901T180000
DTEND;TZID=Europe/Warsaw:20190901T200000
DTSTAMP:20190806T170551Z
URL:https://night4u.pl/wydarzenia/podroz-musicalowa-krakow/
SUMMARY:Podróż Musicalowa Kraków
DESCRIPTION:Cześć! Po sukcesie ostatniej "Podróży Musicalowej" zaprasza
 my na kolejny koncert\, tym razem w Krakowie! Poprzedni koncert kończył 
 sezon\, ten z kolei go otwiera! Zapraszamy serdecznie!\n\nWieczór pełen 
 muzycznych wrażeń! Wokalista i aktor Jarosław Kozielski (London College
  of Music) wraz z Rafałem Supińskim (“Piloci”\, “Dr Żywago”\, 
 “Upiór w Operze”) oraz pianistką Kariną Komenderą zabiorą Was w m
 usicalową podróż w czasie – będzie można usłyszeć hity teatru muz
 ycznego od jego powstania po dzień dzisiejszy. W repertuarze m.in. “Skr
 zypek na dachu”\, “Les Miserables” i “West Side Story” – emocj
 onalne ballady\, duety i utwory komediowe na broadwayowskim poziomie oraz 
 ciepła i kameralna konferansjerka sprawią\, że będzie to dla Was nieza
 pomniany koncert!\n\nRecenzje poprzednich koncertów:\nhttps://kulturalnem
 edia.pl/muzyka/galeria/podroz-musicalowa-jaroslaw-kozielski-rafal-supinski
 -fotorelacja/\n\nhttps://kulturalnemedia.pl/muzyka/galeria/podroz-musicalo
 wa-jaroslawa-kozielskiego-w-warszawie-fotorelacja/\n\nhttps://onevision-st
 refamusicalu.blogspot.com/2019/02/wehiku-czasu-to-byby-cud.html
ATTACH;FMTTYPE=image/jpeg:https://night4u.pl/wp-content/uploads/2019/08/56
 835_image_67690935_931742950504470_7444639501906870272_o.jpg
CATEGORIES:małopolskie
LOCATION:Klub Pod Jaszczurami\, Rynek Główny 8\, Kraków\, 31-042\, Polan
 d
GEO:50.06081;19.93818
X-APPLE-STRUCTURED-LOCATION;VALUE=URI;X-ADDRESS=Rynek Główny 8\, Kraków\
 , 31-042\, Poland;X-APPLE-RADIUS=100;X-TITLE=Klub Pod Jaszczurami:geo:50.0
 6081,19.93818
END:VEVENT
BEGIN:VTIMEZONE
TZID:Europe/Warsaw
X-LIC-LOCATION:Europe/Warsaw
BEGIN:DAYLIGHT
DTSTART:20190331T030000
TZOFFSETFROM:+0100
TZOFFSETTO:+0200
TZNAME:CEST
END:DAYLIGHT
END:VTIMEZONE
END:VCALENDAR