BEGIN:VCALENDAR
VERSION:2.0
PRODID:-//wp-events-plugin.com//7.2.3.1//EN
TZID:Europe/Warsaw
X-WR-TIMEZONE:Europe/Warsaw
BEGIN:VEVENT
UID:18948@night4u.pl
DTSTART;TZID=Europe/Warsaw:20190621T200400
DTEND;TZID=Europe/Warsaw:20190622T040400
DTSTAMP:20190611T180501Z
URL:https://night4u.pl/wydarzenia/podroz-za-jeden-usmiech-z-dj-rycakiem/
SUMMARY:Podróż za jeden uśmiech z DJ Rycakiem
DESCRIPTION:Impreza dla podróżników. DJ RYCAK zabierze nas w muzyczną p
 odróż przez dekady. Gramy wszystko od wczesnego Jacksona\, po późnego 
 Podsiadłę\, pijemy świeżą Perłę albo dwunastoletniego Chivasa. Wcho
 dzimy od 25 lat\, wychodzimy starsi przynajmniej o jeden dzień\, albo tak
  jak Rycak - z każdą imprezą starzeje się o miesiąc.\n\nRezerwacja st
 olików\, kanapek i krzesełek pieknai@pieknapszczola.pl\, ☎ 696 43 23 5
 3. Od 20.00 zapraszamy na   #najlepszytaraswmiescie (IV piętro CSK)\n????
 ????\n\n?? - RYCAK\nkarty klubowe i zaproszenia - za darmo\nprzyjezdni spo
 za promienia 170 km - za darmo plus open bar\nludzie z Hrubieszowa - za da
 rmo\, po okazaniu dowodu\npozostali do 22.00 - wszyscy za darmo\npozostali
  po 22.00 - 10 zł\ndzieci poniżej 25 lat nie wchodzą\, chyba\, że zap
 łacą tyle co za bilet TGV\n#najgorszyklubwmiescie
ATTACH;FMTTYPE=image/jpeg:https://night4u.pl/wp-content/uploads/2019/06/45
 835_image_64347927_293986738020424_754013785492029440_n.jpg
CATEGORIES:lubelskie
LOCATION:Piękna Pszczoła\, Plac Teatralny 1 (Budynek CSK)\, Lublin\, 20-0
 37\, Poland
GEO:51.246524;22.548666
X-APPLE-STRUCTURED-LOCATION;VALUE=URI;X-ADDRESS=Plac Teatralny 1 (Budynek C
 SK)\, Lublin\, 20-037\, Poland;X-APPLE-RADIUS=100;X-TITLE=Piękna Pszczoł
 a:geo:51.246524,22.548666
END:VEVENT
BEGIN:VTIMEZONE
TZID:Europe/Warsaw
X-LIC-LOCATION:Europe/Warsaw
BEGIN:DAYLIGHT
DTSTART:20190331T030000
TZOFFSETFROM:+0100
TZOFFSETTO:+0200
TZNAME:CEST
END:DAYLIGHT
END:VTIMEZONE
END:VCALENDAR