BEGIN:VCALENDAR
VERSION:2.0
PRODID:-//wp-events-plugin.com//7.2.3.1//EN
TZID:Europe/Warsaw
X-WR-TIMEZONE:Europe/Warsaw
BEGIN:VEVENT
UID:5005@night4u.pl
DTSTART;TZID=Europe/Warsaw:20190202T210000
DTEND;TZID=Europe/Warsaw:20190203T050000
DTSTAMP:20190124T164447Z
URL:https://night4u.pl/wydarzenia/podszedlbym-ale-sie-wstydze/
SUMMARY:Podszedłbym\, ale się wstydzę
DESCRIPTION:No przecież wiemy jak to jest | To nie takie proste | Bar u na
 s stoi otworem | Można skorzystać | Nabrać odwagi |\n\n Muzyka szeroko 
 rozumiana jako taka rozrywkowa | Taka do tańca i napitku | Nie wstydź si
 ę | Podejdź do niej | Podejdź do niego | Zagadaj | \n\nwejście | dzies
 ięć \ndresscode | modnie i wygodnie\nselekcja | dla tych co się wstydz
 ą \n\ncover by Hedi Slimane
ATTACH;FMTTYPE=image/jpeg:https://night4u.pl/wp-content/uploads/2019/01/15
 852_image_50837871_2358326230847080_2039275378656149504_n.jpg
CATEGORIES:lubelskie
LOCATION:Klub Towarzyski\, Krakowskie Przedmieście 32\, Lublin\, 20-002\, 
 Poland
GEO:51.24769;22.56263
X-APPLE-STRUCTURED-LOCATION;VALUE=URI;X-ADDRESS=Krakowskie Przedmieście 32
 \, Lublin\, 20-002\, Poland;X-APPLE-RADIUS=100;X-TITLE=Klub Towarzyski:geo
 :51.24769,22.56263
END:VEVENT
BEGIN:VTIMEZONE
TZID:Europe/Warsaw
X-LIC-LOCATION:Europe/Warsaw
BEGIN:STANDARD
DTSTART:20181028T020000
TZOFFSETFROM:+0200
TZOFFSETTO:+0100
TZNAME:CET
END:STANDARD
END:VTIMEZONE
END:VCALENDAR