BEGIN:VCALENDAR
VERSION:2.0
PRODID:-//wp-events-plugin.com//7.2.3.1//EN
TZID:Europe/Warsaw
X-WR-TIMEZONE:Europe/Warsaw
BEGIN:VEVENT
UID:30285@night4u.pl
DTSTART;TZID=Europe/Warsaw:20191006T060000
DTEND;TZID=Europe/Warsaw:20191006T120000
DTSTAMP:20191003T234835Z
URL:https://night4u.pl/wydarzenia/pogotowie-techno-after-overdose-ii/
SUMMARY:Pogotowie Techno // After Overdose II
DESCRIPTION:Overdose w swojej definicji zawiera nutkę szaleństwa i przesa
 dy. Nie inaczej będzie tym razem. Jeśli myśleliście\, że pozwolimy Wa
 m tak szybko pójść do domów\, to się myliliście. Kiedy ostatnie takt
 y muzyki zamilkną na wydarzeniu głównym\, rozpoczniemy ucztę dla prawd
 ziwych koneserów długich zabaw.\n \nOd 6.00 tradycyjnie odpalamy After O
 verdose i gramy bez limitu\, aż padniecie. Tym razem za odpowiednią wars
 twę muzyczną zadba Pogotowie Techno DJ's SQUAD. Kto to będzie? Przekona
 cie się już w niedzielę nad ranem. \n\nAfter odbędzie się w klubie SO
 DA Underground Stage\, czyli tam gdzie wydarzenie główne. Osoby z bilete
 m na Overdose oczywiście zostają za free\, a Ci\, którzy dopłyną dopi
 ero na After\, od godziny 5.00 zapłacą za wejście symboliczną dyszkę.
  \n\nI niech się dzieje co chce!
ATTACH;FMTTYPE=image/jpeg:https://night4u.pl/wp-content/uploads/2019/10/69
 840_image_71746615_717763318635667_2611845191237107712_o.jpg
CATEGORIES:łódzkie
LOCATION:SODA Underground Stage\, Plac Komuny Paryskiej 6\, Łódź\, 90-00
 7\, Poland
GEO:51.76518;19.45941
X-APPLE-STRUCTURED-LOCATION;VALUE=URI;X-ADDRESS=Plac Komuny Paryskiej 6\, 
 Łódź\, 90-007\, Poland;X-APPLE-RADIUS=100;X-TITLE=SODA Underground Stag
 e:geo:51.76518,19.45941
END:VEVENT
BEGIN:VTIMEZONE
TZID:Europe/Warsaw
X-LIC-LOCATION:Europe/Warsaw
BEGIN:DAYLIGHT
DTSTART:20190331T030000
TZOFFSETFROM:+0100
TZOFFSETTO:+0200
TZNAME:CEST
END:DAYLIGHT
END:VTIMEZONE
END:VCALENDAR